<VRTDataset rasterXSize="214413" rasterYSize="117310">
  <SRS>PROJCS[&quot;WGS 84 / Pseudo-Mercator&quot;,GEOGCS[&quot;WGS 84&quot;,DATUM[&quot;WGS_1984&quot;,SPHEROID[&quot;WGS 84&quot;,6378137,298.257223563,AUTHORITY[&quot;EPSG&quot;,&quot;7030&quot;]],AUTHORITY[&quot;EPSG&quot;,&quot;6326&quot;]],PRIMEM[&quot;Greenwich&quot;,0,AUTHORITY[&quot;EPSG&quot;,&quot;8901&quot;]],UNIT[&quot;degree&quot;,0.0174532925199433,AUTHORITY[&quot;EPSG&quot;,&quot;9122&quot;]],AUTHORITY[&quot;EPSG&quot;,&quot;4326&quot;]],PROJECTION[&quot;Mercator_1SP&quot;],PARAMETER[&quot;central_meridian&quot;,0],PARAMETER[&quot;scale_factor&quot;,1],PARAMETER[&quot;false_easting&quot;,0],PARAMETER[&quot;false_northing&quot;,0],UNIT[&quot;metre&quot;,1,AUTHORITY[&quot;EPSG&quot;,&quot;9001&quot;]],AXIS[&quot;Easting&quot;,EAST],AXIS[&quot;Northing&quot;,NORTH],EXTENSION[&quot;PROJ4&quot;,&quot;+proj=merc +a=6378137 +b=6378137 +lat_ts=0 +lon_0=0 +x_0=0 +y_0=0 +k=1 +units=m +nadgrids=@null +wktext +no_defs&quot;],AUTHORITY[&quot;EPSG&quot;,&quot;3857&quot;]]</SRS>
  <GeoTransform> -13885233.83500211, 30, 0, 6340114.905200208, 0, -30</GeoTransform>
  <VRTRasterBand dataType="Byte" band="1">
    <ColorInterp>Red</ColorInterp>
    <ComplexSource>
      <SourceFilename relativeToVRT="1">merged.vrt</SourceFilename>
      <SourceBand>1</SourceBand>
      <SourceProperties RasterXSize="214413" RasterYSize="117310" DataType="Byte" BlockXSize="128" BlockYSize="128"/>
      <SrcRect xOff="0" yOff="0" xSize="214413" ySize="117310"/>
      <DstRect xOff="0" yOff="0" xSize="214413" ySize="117310"/>
      <LUT>1:0,2:153,3:230,4:240,5:255,6:0,7:86,8:0,9:255,10:204,11:213,12:0,254.999999999999972:0,255:0,255:0</LUT>
    </ComplexSource>
  </VRTRasterBand>
  <VRTRasterBand dataType="Byte" band="2">
    <ColorInterp>Green</ColorInterp>
    <ComplexSource>
      <SourceFilename relativeToVRT="1">merged.vrt</SourceFilename>
      <SourceBand>1</SourceBand>
      <SourceProperties RasterXSize="214413" RasterYSize="117310" DataType="Byte" BlockXSize="128" BlockYSize="128"/>
      <SrcRect xOff="0" yOff="0" xSize="214413" ySize="117310"/>
      <DstRect xOff="0" yOff="0" xSize="214413" ySize="117310"/>
      <LUT>1:158,2:153,3:159,4:228,5:255,6:0,7:180,8:69,9:255,10:121,11:94,12:114,254.999999999999972:114,255:0,255:0</LUT>
    </ComplexSource>
  </VRTRasterBand>
  <VRTRasterBand dataType="Byte" band="3">
    <ColorInterp>Blue</ColorInterp>
    <ComplexSource>
      <SourceFilename relativeToVRT="1">merged.vrt</SourceFilename>
      <SourceBand>1</SourceBand>
      <SourceProperties RasterXSize="214413" RasterYSize="117310" DataType="Byte" BlockXSize="128" BlockYSize="128"/>
      <SrcRect xOff="0" yOff="0" xSize="214413" ySize="117310"/>
      <DstRect xOff="0" yOff="0" xSize="214413" ySize="117310"/>
      <LUT>1:115,2:153,3:0,4:66,5:255,6:0,7:233,8:50,9:255,10:167,11:0,12:178,254.999999999999972:178,255:0,255:0</LUT>
    </ComplexSource>
  </VRTRasterBand>
  <VRTRasterBand dataType="Byte" band="4">
    <ColorInterp>Alpha</ColorInterp>
    <ComplexSource>
      <SourceFilename relativeToVRT="1">merged.vrt</SourceFilename>
      <SourceBand>1</SourceBand>
      <SourceProperties RasterXSize="214413" RasterYSize="117310" DataType="Byte" BlockXSize="128" BlockYSize="128"/>
      <SrcRect xOff="0" yOff="0" xSize="214413" ySize="117310"/>
      <DstRect xOff="0" yOff="0" xSize="214413" ySize="117310"/>
      <LUT>1:255,2:255,3:255,4:255,5:255,6:255,7:255,8:255,9:255,10:255,11:255,12:255,254.999999999999972:255,255:0,255:0</LUT>
    </ComplexSource>
  </VRTRasterBand>
</VRTDataset>
