<VRTDataset rasterXSize="214207" rasterYSize="117355">
  <SRS>PROJCS[&quot;WGS 84 / Pseudo-Mercator&quot;,GEOGCS[&quot;WGS 84&quot;,DATUM[&quot;WGS_1984&quot;,SPHEROID[&quot;WGS 84&quot;,6378137,298.257223563,AUTHORITY[&quot;EPSG&quot;,&quot;7030&quot;]],AUTHORITY[&quot;EPSG&quot;,&quot;6326&quot;]],PRIMEM[&quot;Greenwich&quot;,0,AUTHORITY[&quot;EPSG&quot;,&quot;8901&quot;]],UNIT[&quot;degree&quot;,0.0174532925199433,AUTHORITY[&quot;EPSG&quot;,&quot;9122&quot;]],AUTHORITY[&quot;EPSG&quot;,&quot;4326&quot;]],PROJECTION[&quot;Mercator_1SP&quot;],PARAMETER[&quot;central_meridian&quot;,0],PARAMETER[&quot;scale_factor&quot;,1],PARAMETER[&quot;false_easting&quot;,0],PARAMETER[&quot;false_northing&quot;,0],UNIT[&quot;metre&quot;,1,AUTHORITY[&quot;EPSG&quot;,&quot;9001&quot;]],AXIS[&quot;Easting&quot;,EAST],AXIS[&quot;Northing&quot;,NORTH],EXTENSION[&quot;PROJ4&quot;,&quot;+proj=merc +a=6378137 +b=6378137 +lat_ts=0 +lon_0=0 +x_0=0 +y_0=0 +k=1 +units=m +nadgrids=@null +wktext +no_defs&quot;],AUTHORITY[&quot;EPSG&quot;,&quot;3857&quot;]]</SRS>
  <GeoTransform> -13883133.83500211, 30, 0, 6337918.654719759, 0, -30</GeoTransform>
  <VRTRasterBand dataType="Byte" band="1">
    <ColorInterp>Red</ColorInterp>
    <ComplexSource>
      <SourceFilename relativeToVRT="1">merged.vrt</SourceFilename>
      <SourceBand>1</SourceBand>
      <SourceProperties RasterXSize="214207" RasterYSize="117355" DataType="Byte" BlockXSize="128" BlockYSize="128"/>
      <SrcRect xOff="0" yOff="0" xSize="214207" ySize="117355"/>
      <DstRect xOff="0" yOff="0" xSize="214207" ySize="117355"/>
      <LUT>0:250,1:249,2:249,3:248,4:248,5:247,6:247,7:246,8:246,9:246,10:246,11:246,12:246,13:245,14:245,15:244,16:244,17:243,18:242,19:242,20:240,21:239,22:237,23:235,24:232,25:228,26:223,27:219,28:214,29:209,30:203,31:196,32:189,33:182,34:175,35:169,36:161,37:153,38:147,39:139,40:132,41:124,42:117,43:110,44:104,45:97,46:90,47:83,48:76,49:70,50:63,51:56,52:51,53:45,54:38,55:32,56:26,57:20,58:13,59:7,60:3,254.999999999999972:3,255:0,255:0</LUT>
    </ComplexSource>
  </VRTRasterBand>
  <VRTRasterBand dataType="Byte" band="2">
    <ColorInterp>Green</ColorInterp>
    <ComplexSource>
      <SourceFilename relativeToVRT="1">merged.vrt</SourceFilename>
      <SourceBand>1</SourceBand>
      <SourceProperties RasterXSize="214207" RasterYSize="117355" DataType="Byte" BlockXSize="128" BlockYSize="128"/>
      <SrcRect xOff="0" yOff="0" xSize="214207" ySize="117355"/>
      <DstRect xOff="0" yOff="0" xSize="214207" ySize="117355"/>
      <LUT>0:235,1:229,2:222,3:215,4:209,5:204,6:197,7:190,8:184,9:177,10:170,11:163,12:156,13:150,14:142,15:135,16:127,17:120,18:112,19:103,20:96,21:88,22:79,23:71,24:63,25:56,26:48,27:41,28:36,29:31,30:27,31:23,32:22,33:22,34:23,35:24,36:26,37:27,38:28,39:29,40:30,41:31,42:31,43:31,44:31,45:31,46:30,47:30,48:29,49:28,50:27,51:26,52:24,53:23,54:20,55:18,56:16,57:14,58:11,59:7,60:5,254.999999999999972:5,255:0,255:0</LUT>
    </ComplexSource>
  </VRTRasterBand>
  <VRTRasterBand dataType="Byte" band="3">
    <ColorInterp>Blue</ColorInterp>
    <ComplexSource>
      <SourceFilename relativeToVRT="1">merged.vrt</SourceFilename>
      <SourceBand>1</SourceBand>
      <SourceProperties RasterXSize="214207" RasterYSize="117355" DataType="Byte" BlockXSize="128" BlockYSize="128"/>
      <SrcRect xOff="0" yOff="0" xSize="214207" ySize="117355"/>
      <DstRect xOff="0" yOff="0" xSize="214207" ySize="117355"/>
      <LUT>0:221,1:211,2:202,3:193,4:184,5:174,6:165,7:156,8:147,9:139,10:130,11:123,12:115,13:108,14:101,15:94,16:88,17:82,18:77,19:71,20:67,21:64,22:62,23:62,24:63,25:65,26:68,27:70,28:73,29:76,30:79,31:83,32:85,33:87,34:89,35:90,36:91,37:91,38:91,39:91,40:90,41:90,42:88,43:87,44:85,45:83,46:81,47:77,48:75,49:72,50:68,51:64,52:60,53:56,54:51,55:46,56:42,57:38,58:33,59:29,60:26,254.999999999999972:26,255:0,255:0</LUT>
    </ComplexSource>
  </VRTRasterBand>
  <VRTRasterBand dataType="Byte" band="4">
    <ColorInterp>Alpha</ColorInterp>
    <ComplexSource>
      <SourceFilename relativeToVRT="1">merged.vrt</SourceFilename>
      <SourceBand>1</SourceBand>
      <SourceProperties RasterXSize="214207" RasterYSize="117355" DataType="Byte" BlockXSize="128" BlockYSize="128"/>
      <SrcRect xOff="0" yOff="0" xSize="214207" ySize="117355"/>
      <DstRect xOff="0" yOff="0" xSize="214207" ySize="117355"/>
      <LUT>0:255,1:255,2:255,3:255,4:255,5:255,6:255,7:255,8:255,9:255,10:255,11:255,12:255,13:255,14:255,15:255,16:255,17:255,18:255,19:255,20:255,21:255,22:255,23:255,24:255,25:255,26:255,27:255,28:255,29:255,30:255,31:255,32:255,33:255,34:255,35:255,36:255,37:255,38:255,39:255,40:255,41:255,42:255,43:255,44:255,45:255,46:255,47:255,48:255,49:255,50:255,51:255,52:255,53:255,54:255,55:255,56:255,57:255,58:255,59:255,60:255,254.999999999999972:255,255:0,255:0</LUT>
    </ComplexSource>
  </VRTRasterBand>
</VRTDataset>
