<VRTDataset rasterXSize="214409" rasterYSize="117310">
  <SRS>PROJCS[&quot;WGS 84 / Pseudo-Mercator&quot;,GEOGCS[&quot;WGS 84&quot;,DATUM[&quot;WGS_1984&quot;,SPHEROID[&quot;WGS 84&quot;,6378137,298.257223563,AUTHORITY[&quot;EPSG&quot;,&quot;7030&quot;]],AUTHORITY[&quot;EPSG&quot;,&quot;6326&quot;]],PRIMEM[&quot;Greenwich&quot;,0,AUTHORITY[&quot;EPSG&quot;,&quot;8901&quot;]],UNIT[&quot;degree&quot;,0.0174532925199433,AUTHORITY[&quot;EPSG&quot;,&quot;9122&quot;]],AUTHORITY[&quot;EPSG&quot;,&quot;4326&quot;]],PROJECTION[&quot;Mercator_1SP&quot;],PARAMETER[&quot;central_meridian&quot;,0],PARAMETER[&quot;scale_factor&quot;,1],PARAMETER[&quot;false_easting&quot;,0],PARAMETER[&quot;false_northing&quot;,0],UNIT[&quot;metre&quot;,1,AUTHORITY[&quot;EPSG&quot;,&quot;9001&quot;]],AXIS[&quot;Easting&quot;,EAST],AXIS[&quot;Northing&quot;,NORTH],EXTENSION[&quot;PROJ4&quot;,&quot;+proj=merc +a=6378137 +b=6378137 +lat_ts=0 +lon_0=0 +x_0=0 +y_0=0 +k=1 +units=m +nadgrids=@null +wktext +no_defs&quot;],AUTHORITY[&quot;EPSG&quot;,&quot;3857&quot;]]</SRS>
  <GeoTransform> -13885101.7096313, 30, 0, 6340099.874421973, 0, -30</GeoTransform>
  <VRTRasterBand dataType="Byte" band="1">
    <ColorInterp>Red</ColorInterp>
    <ComplexSource>
      <SourceFilename relativeToVRT="1">merged.vrt</SourceFilename>
      <SourceBand>1</SourceBand>
      <SourceProperties RasterXSize="214409" RasterYSize="117310" DataType="Byte" BlockXSize="128" BlockYSize="128"/>
      <SrcRect xOff="0" yOff="0" xSize="214409" ySize="117310"/>
      <DstRect xOff="0" yOff="0" xSize="214409" ySize="117310"/>
      <LUT>0:3,1:4,2:5,3:6,4:7,5:8,6:10,7:11,8:13,9:14,10:16,11:17,12:19,13:20,14:22,15:23,16:25,17:26,18:28,19:29,20:31,21:33,22:33,23:35,24:36,25:38,26:40,27:41,28:43,29:44,30:46,31:47,32:49,33:50,34:52,35:53,36:54,37:56,38:57,39:60,40:61,41:63,42:64,43:66,44:67,45:69,46:70,47:72,48:73,49:75,50:76,51:78,52:80,53:81,54:83,55:84,56:86,57:88,58:89,59:91,60:92,61:95,62:96,63:97,64:99,65:100,66:103,67:104,68:106,69:108,70:109,71:111,72:112,73:114,74:116,75:117,76:119,77:121,78:123,79:124,80:126,81:128,82:130,83:131,84:133,85:135,86:136,87:139,88:140,89:142,90:144,91:146,92:147,93:149,94:151,95:152,96:154,97:156,98:158,99:159,100:161,101:163,102:164,103:166,104:168,105:170,106:171,107:173,108:175,109:176,110:178,111:180,112:181,113:184,114:185,115:187,116:188,117:190,118:192,119:193,120:195,121:196,122:198,123:199,124:201,125:203,126:204,127:206,128:206,129:208,130:210,131:210,132:212,133:214,134:215,135:216,136:217,137:219,138:220,139:221,140:222,141:223,142:224,143:225,144:226,145:227,146:228,147:229,148:230,149:231,150:232,151:232,152:233,153:234,154:235,155:235,156:236,157:236,158:237,159:237,160:238,161:238,162:239,163:239,164:239,165:240,166:240,167:240,168:241,169:241,170:241,171:242,172:242,173:242,174:242,175:242,176:243,177:243,178:243,179:243,180:244,181:244,182:244,183:244,184:244,185:244,186:244,187:244,188:245,189:245,190:245,191:245,192:245,193:245,194:245,195:245,196:245,197:245,198:245,199:246,200:246,201:246,202:246,203:246,204:246,205:246,206:246,207:246,208:246,209:246,210:246,211:246,212:246,213:246,214:246,215:246,216:246,217:246,218:246,219:246,220:246,221:246,222:246,223:246,224:247,225:247,226:247,227:247,228:247,229:247,230:247,231:247,232:247,233:248,234:248,235:248,236:248,237:248,238:248,239:248,240:248,241:249,242:249,243:249,244:249,245:249,246:249,247:250,248:250,249:250,250:250,254.999999999999943:250,255:0,255:0</LUT>
    </ComplexSource>
  </VRTRasterBand>
  <VRTRasterBand dataType="Byte" band="2">
    <ColorInterp>Green</ColorInterp>
    <ComplexSource>
      <SourceFilename relativeToVRT="1">merged.vrt</SourceFilename>
      <SourceBand>1</SourceBand>
      <SourceProperties RasterXSize="214409" RasterYSize="117310" DataType="Byte" BlockXSize="128" BlockYSize="128"/>
      <SrcRect xOff="0" yOff="0" xSize="214409" ySize="117310"/>
      <DstRect xOff="0" yOff="0" xSize="214409" ySize="117310"/>
      <LUT>0:5,1:5,2:6,3:7,4:7,5:8,6:9,7:9,8:10,9:11,10:11,11:12,12:13,13:14,14:14,15:15,16:15,17:16,18:17,19:17,20:18,21:18,22:19,23:19,24:20,25:20,26:21,27:22,28:22,29:23,30:23,31:23,32:24,33:24,34:25,35:25,36:25,37:26,38:26,39:26,40:26,41:27,42:27,43:27,44:28,45:28,46:28,47:28,48:29,49:29,50:29,51:29,52:29,53:30,54:30,55:30,56:30,57:30,58:30,59:30,60:30,61:31,62:31,63:31,64:31,65:31,66:31,67:31,68:31,69:31,70:31,71:31,72:31,73:31,74:31,75:31,76:31,77:31,78:31,79:31,80:30,81:30,82:30,83:30,84:30,85:30,86:30,87:29,88:29,89:29,90:29,91:28,92:28,93:28,94:28,95:27,96:27,97:27,98:26,99:26,100:26,101:25,102:25,103:25,104:24,105:24,106:24,107:23,108:23,109:23,110:23,111:22,112:22,113:22,114:22,115:22,116:22,117:22,118:22,119:23,120:23,121:23,122:25,123:25,124:25,125:27,126:28,127:29,128:30,129:31,130:32,131:33,132:34,133:35,134:37,135:38,136:40,137:41,138:43,139:44,140:46,141:47,142:49,143:51,144:52,145:54,146:56,147:57,148:59,149:61,150:63,151:64,152:66,153:68,154:70,155:72,156:74,157:76,158:78,159:80,160:82,161:84,162:86,163:89,164:91,165:93,166:95,167:97,168:99,169:101,170:102,171:104,172:106,173:108,174:110,175:112,176:114,177:116,178:117,179:119,180:121,181:123,182:125,183:126,184:128,185:131,186:132,187:133,188:136,189:138,190:139,191:141,192:143,193:144,194:146,195:148,196:150,197:151,198:153,199:155,200:156,201:158,202:160,203:161,204:163,205:164,206:166,207:168,208:169,209:171,210:173,211:174,212:176,213:177,214:179,215:180,216:183,217:184,218:186,219:187,220:189,221:190,222:192,223:194,224:195,225:197,226:198,227:200,228:202,229:203,230:205,231:206,232:208,233:209,234:210,235:212,236:213,237:215,238:217,239:218,240:220,241:221,242:223,243:224,244:226,245:227,246:229,247:230,248:232,249:233,250:235,254.999999999999943:235,255:0,255:0</LUT>
    </ComplexSource>
  </VRTRasterBand>
  <VRTRasterBand dataType="Byte" band="3">
    <ColorInterp>Blue</ColorInterp>
    <ComplexSource>
      <SourceFilename relativeToVRT="1">merged.vrt</SourceFilename>
      <SourceBand>1</SourceBand>
      <SourceProperties RasterXSize="214409" RasterYSize="117310" DataType="Byte" BlockXSize="128" BlockYSize="128"/>
      <SrcRect xOff="0" yOff="0" xSize="214409" ySize="117310"/>
      <DstRect xOff="0" yOff="0" xSize="214409" ySize="117310"/>
      <LUT>0:26,1:26,2:27,3:28,4:29,5:30,6:31,7:32,8:33,9:34,10:35,11:36,12:37,13:38,14:39,15:40,16:41,17:42,18:43,19:44,20:45,21:47,22:49,23:49,24:50,25:51,26:53,27:54,28:55,29:56,30:57,31:58,32:59,33:60,34:61,35:62,36:63,37:64,38:65,39:66,40:66,41:67,42:68,43:69,44:70,45:71,46:72,47:72,48:73,49:74,50:75,51:75,52:76,53:77,54:77,55:78,56:79,57:79,58:80,59:81,60:81,61:82,62:82,63:83,64:83,65:84,66:84,67:85,68:85,69:86,70:86,71:87,72:87,73:87,74:88,75:88,76:89,77:89,78:89,79:90,80:90,81:90,82:90,83:90,84:91,85:91,86:91,87:91,88:91,89:91,90:91,91:91,92:91,93:91,94:91,95:91,96:91,97:91,98:91,99:91,100:91,101:91,102:91,103:90,104:90,105:90,106:90,107:89,108:89,109:89,110:88,111:88,112:87,113:87,114:87,115:86,116:86,117:85,118:84,119:84,120:83,121:83,122:81,123:81,124:81,125:79,126:78,127:78,128:78,129:76,130:76,131:75,132:74,133:73,134:73,135:72,136:71,137:70,138:70,139:69,140:68,141:68,142:67,143:66,144:66,145:65,146:65,147:64,148:64,149:63,150:63,151:62,152:62,153:62,154:62,155:62,156:62,157:62,158:62,159:62,160:63,161:63,162:64,163:64,164:65,165:66,166:66,167:67,168:68,169:69,170:70,171:71,172:72,173:74,174:76,175:77,176:77,177:79,178:81,179:81,180:83,181:85,182:86,183:88,184:89,185:91,186:92,187:94,188:96,189:97,190:99,191:100,192:102,193:103,194:105,195:107,196:108,197:110,198:112,199:113,200:115,201:117,202:119,203:120,204:122,205:124,206:126,207:128,208:129,209:131,210:133,211:135,212:137,213:140,214:142,215:144,216:146,217:148,218:150,219:152,220:154,221:156,222:158,223:160,224:163,225:165,226:167,227:169,228:171,229:174,230:176,231:178,232:180,233:183,234:185,235:187,236:189,237:191,238:194,239:197,240:199,241:201,242:203,243:205,244:208,245:210,246:212,247:214,248:216,249:218,250:221,254.999999999999943:221,255:0,255:0</LUT>
    </ComplexSource>
  </VRTRasterBand>
  <VRTRasterBand dataType="Byte" band="4">
    <ColorInterp>Alpha</ColorInterp>
    <ComplexSource>
      <SourceFilename relativeToVRT="1">merged.vrt</SourceFilename>
      <SourceBand>1</SourceBand>
      <SourceProperties RasterXSize="214409" RasterYSize="117310" DataType="Byte" BlockXSize="128" BlockYSize="128"/>
      <SrcRect xOff="0" yOff="0" xSize="214409" ySize="117310"/>
      <DstRect xOff="0" yOff="0" xSize="214409" ySize="117310"/>
      <LUT>0:255,1:255,2:255,3:255,4:255,5:255,6:255,7:255,8:255,9:255,10:255,11:255,12:255,13:255,14:255,15:255,16:255,17:255,18:255,19:255,20:255,21:255,22:255,23:255,24:255,25:255,26:255,27:255,28:255,29:255,30:255,31:255,32:255,33:255,34:255,35:255,36:255,37:255,38:255,39:255,40:255,41:255,42:255,43:255,44:255,45:255,46:255,47:255,48:255,49:255,50:255,51:255,52:255,53:255,54:255,55:255,56:255,57:255,58:255,59:255,60:255,61:255,62:255,63:255,64:255,65:255,66:255,67:255,68:255,69:255,70:255,71:255,72:255,73:255,74:255,75:255,76:255,77:255,78:255,79:255,80:255,81:255,82:255,83:255,84:255,85:255,86:255,87:255,88:255,89:255,90:255,91:255,92:255,93:255,94:255,95:255,96:255,97:255,98:255,99:255,100:255,101:255,102:255,103:255,104:255,105:255,106:255,107:255,108:255,109:255,110:255,111:255,112:255,113:255,114:255,115:255,116:255,117:255,118:255,119:255,120:255,121:255,122:255,123:255,124:255,125:255,126:255,127:255,128:255,129:255,130:255,131:255,132:255,133:255,134:255,135:255,136:255,137:255,138:255,139:255,140:255,141:255,142:255,143:255,144:255,145:255,146:255,147:255,148:255,149:255,150:255,151:255,152:255,153:255,154:255,155:255,156:255,157:255,158:255,159:255,160:255,161:255,162:255,163:255,164:255,165:255,166:255,167:255,168:255,169:255,170:255,171:255,172:255,173:255,174:255,175:255,176:255,177:255,178:255,179:255,180:255,181:255,182:255,183:255,184:255,185:255,186:255,187:255,188:255,189:255,190:255,191:255,192:255,193:255,194:255,195:255,196:255,197:255,198:255,199:255,200:255,201:255,202:255,203:255,204:255,205:255,206:255,207:255,208:255,209:255,210:255,211:255,212:255,213:255,214:255,215:255,216:255,217:255,218:255,219:255,220:255,221:255,222:255,223:255,224:255,225:255,226:255,227:255,228:255,229:255,230:255,231:255,232:255,233:255,234:255,235:255,236:255,237:255,238:255,239:255,240:255,241:255,242:255,243:255,244:255,245:255,246:255,247:255,248:255,249:255,250:255,254.999999999999943:255,255:0,255:0</LUT>
    </ComplexSource>
  </VRTRasterBand>
</VRTDataset>
