<VRTDataset rasterXSize="214413" rasterYSize="117310">
  <SRS>PROJCS[&quot;WGS 84 / Pseudo-Mercator&quot;,GEOGCS[&quot;WGS 84&quot;,DATUM[&quot;WGS_1984&quot;,SPHEROID[&quot;WGS 84&quot;,6378137,298.257223563,AUTHORITY[&quot;EPSG&quot;,&quot;7030&quot;]],AUTHORITY[&quot;EPSG&quot;,&quot;6326&quot;]],PRIMEM[&quot;Greenwich&quot;,0,AUTHORITY[&quot;EPSG&quot;,&quot;8901&quot;]],UNIT[&quot;degree&quot;,0.0174532925199433,AUTHORITY[&quot;EPSG&quot;,&quot;9122&quot;]],AUTHORITY[&quot;EPSG&quot;,&quot;4326&quot;]],PROJECTION[&quot;Mercator_1SP&quot;],PARAMETER[&quot;central_meridian&quot;,0],PARAMETER[&quot;scale_factor&quot;,1],PARAMETER[&quot;false_easting&quot;,0],PARAMETER[&quot;false_northing&quot;,0],UNIT[&quot;metre&quot;,1,AUTHORITY[&quot;EPSG&quot;,&quot;9001&quot;]],AXIS[&quot;Easting&quot;,EAST],AXIS[&quot;Northing&quot;,NORTH],EXTENSION[&quot;PROJ4&quot;,&quot;+proj=merc +a=6378137 +b=6378137 +lat_ts=0 +lon_0=0 +x_0=0 +y_0=0 +k=1 +units=m +nadgrids=@null +wktext +no_defs&quot;],AUTHORITY[&quot;EPSG&quot;,&quot;3857&quot;]]</SRS>
  <GeoTransform> -13885233.83500211, 30, 0, 6340114.905200208, 0, -30</GeoTransform>
  <VRTRasterBand dataType="Byte" band="1">
    <ColorInterp>Red</ColorInterp>
    <ComplexSource>
      <SourceFilename relativeToVRT="1">merged.vrt</SourceFilename>
      <SourceBand>1</SourceBand>
      <SourceProperties RasterXSize="214413" RasterYSize="117310" DataType="Byte" BlockXSize="128" BlockYSize="128"/>
      <SrcRect xOff="0" yOff="0" xSize="214413" ySize="117310"/>
      <DstRect xOff="0" yOff="0" xSize="214413" ySize="117310"/>
      <LUT>0:68,1:69,2:70,3:71,4:71,5:72,6:72,7:72,8:72,9:72,10:72,11:72,12:71,13:71,14:70,15:70,16:69,17:68,18:67,19:66,20:65,21:63,22:62,23:61,24:60,25:59,26:58,27:56,28:55,29:54,30:53,31:51,32:50,33:49,34:48,35:47,36:46,37:45,38:44,39:43,40:42,41:41,42:40,43:39,44:38,45:37,46:36,47:35,48:34,49:33,50:33,51:32,52:31,53:31,54:31,55:30,56:31,57:31,58:32,59:33,60:34,61:37,62:38,63:41,64:44,65:47,66:51,67:55,68:58,69:63,70:67,71:72,72:77,73:82,74:87,75:93,76:98,77:104,78:110,79:116,80:122,81:128,82:134,83:141,84:147,85:154,86:161,87:168,88:174,89:181,90:187,91:194,92:201,93:208,94:215,95:222,96:229,97:235,98:241,99:247,100:253,254.999999999999972:253,255:0,255:0</LUT>
    </ComplexSource>
  </VRTRasterBand>
  <VRTRasterBand dataType="Byte" band="2">
    <ColorInterp>Green</ColorInterp>
    <ComplexSource>
      <SourceFilename relativeToVRT="1">merged.vrt</SourceFilename>
      <SourceBand>1</SourceBand>
      <SourceProperties RasterXSize="214413" RasterYSize="117310" DataType="Byte" BlockXSize="128" BlockYSize="128"/>
      <SrcRect xOff="0" yOff="0" xSize="214413" ySize="117310"/>
      <DstRect xOff="0" yOff="0" xSize="214413" ySize="117310"/>
      <LUT>0:1,1:5,2:8,3:12,4:16,5:20,6:23,7:27,8:30,9:33,10:37,11:40,12:43,13:46,14:49,15:52,16:56,17:58,18:62,19:64,20:68,21:71,22:73,23:77,24:79,25:82,26:84,27:88,28:90,29:93,30:96,31:98,32:101,33:103,34:106,35:108,36:111,37:113,38:115,39:117,40:120,41:123,42:125,43:128,44:130,45:132,46:134,47:137,48:139,49:142,50:144,51:146,52:149,53:151,54:154,55:156,56:159,57:161,58:163,59:165,60:168,61:171,62:173,63:175,64:177,65:180,66:182,67:184,68:186,69:188,70:191,71:193,72:195,73:197,74:199,75:200,76:203,77:204,78:206,79:208,80:209,81:211,82:213,83:214,84:215,85:217,86:218,87:219,88:220,89:222,90:223,91:223,92:225,93:225,94:226,95:227,96:228,97:229,98:229,99:230,100:231,254.999999999999972:231,255:0,255:0</LUT>
    </ComplexSource>
  </VRTRasterBand>
  <VRTRasterBand dataType="Byte" band="3">
    <ColorInterp>Blue</ColorInterp>
    <ComplexSource>
      <SourceFilename relativeToVRT="1">merged.vrt</SourceFilename>
      <SourceBand>1</SourceBand>
      <SourceProperties RasterXSize="214413" RasterYSize="117310" DataType="Byte" BlockXSize="128" BlockYSize="128"/>
      <SrcRect xOff="0" yOff="0" xSize="214413" ySize="117310"/>
      <DstRect xOff="0" yOff="0" xSize="214413" ySize="117310"/>
      <LUT>0:84,1:88,2:92,3:95,4:99,5:103,6:105,7:109,8:111,9:115,10:118,11:120,12:122,13:124,14:126,15:128,16:130,17:131,18:133,19:134,20:135,21:136,22:137,23:138,24:138,25:139,26:140,27:140,28:140,29:141,30:141,31:141,32:142,33:142,34:142,35:142,36:142,37:142,38:142,39:142,40:142,41:142,42:142,43:142,44:142,45:142,46:142,47:142,48:141,49:141,50:140,51:140,52:139,53:139,54:138,55:137,56:136,57:136,58:134,59:133,60:132,61:130,62:129,63:127,64:126,65:124,66:122,67:120,68:118,69:115,70:113,71:110,72:107,73:105,74:102,75:99,76:95,77:92,78:88,79:85,80:81,81:77,82:73,83:69,84:65,85:60,86:56,87:52,88:48,89:43,90:39,91:35,92:32,93:28,94:25,95:24,96:25,97:26,98:29,99:32,100:37,254.999999999999972:37,255:0,255:0</LUT>
    </ComplexSource>
  </VRTRasterBand>
  <VRTRasterBand dataType="Byte" band="4">
    <ColorInterp>Alpha</ColorInterp>
    <ComplexSource>
      <SourceFilename relativeToVRT="1">merged.vrt</SourceFilename>
      <SourceBand>1</SourceBand>
      <SourceProperties RasterXSize="214413" RasterYSize="117310" DataType="Byte" BlockXSize="128" BlockYSize="128"/>
      <SrcRect xOff="0" yOff="0" xSize="214413" ySize="117310"/>
      <DstRect xOff="0" yOff="0" xSize="214413" ySize="117310"/>
      <LUT>0:255,1:255,2:255,3:255,4:255,5:255,6:255,7:255,8:255,9:255,10:255,11:255,12:255,13:255,14:255,15:255,16:255,17:255,18:255,19:255,20:255,21:255,22:255,23:255,24:255,25:255,26:255,27:255,28:255,29:255,30:255,31:255,32:255,33:255,34:255,35:255,36:255,37:255,38:255,39:255,40:255,41:255,42:255,43:255,44:255,45:255,46:255,47:255,48:255,49:255,50:255,51:255,52:255,53:255,54:255,55:255,56:255,57:255,58:255,59:255,60:255,61:255,62:255,63:255,64:255,65:255,66:255,67:255,68:255,69:255,70:255,71:255,72:255,73:255,74:255,75:255,76:255,77:255,78:255,79:255,80:255,81:255,82:255,83:255,84:255,85:255,86:255,87:255,88:255,89:255,90:255,91:255,92:255,93:255,94:255,95:255,96:255,97:255,98:255,99:255,100:255,254.999999999999972:255,255:0,255:0</LUT>
    </ComplexSource>
  </VRTRasterBand>
</VRTDataset>
