<VRTDataset rasterXSize="168888" rasterYSize="92453">
  <SRS>PROJCS[&quot;WGS 84 / Pseudo-Mercator&quot;,GEOGCS[&quot;WGS 84&quot;,DATUM[&quot;WGS_1984&quot;,SPHEROID[&quot;WGS 84&quot;,6378137,298.257223563,AUTHORITY[&quot;EPSG&quot;,&quot;7030&quot;]],AUTHORITY[&quot;EPSG&quot;,&quot;6326&quot;]],PRIMEM[&quot;Greenwich&quot;,0,AUTHORITY[&quot;EPSG&quot;,&quot;8901&quot;]],UNIT[&quot;degree&quot;,0.0174532925199433,AUTHORITY[&quot;EPSG&quot;,&quot;9122&quot;]],AUTHORITY[&quot;EPSG&quot;,&quot;4326&quot;]],PROJECTION[&quot;Mercator_1SP&quot;],PARAMETER[&quot;central_meridian&quot;,0],PARAMETER[&quot;scale_factor&quot;,1],PARAMETER[&quot;false_easting&quot;,0],PARAMETER[&quot;false_northing&quot;,0],UNIT[&quot;metre&quot;,1,AUTHORITY[&quot;EPSG&quot;,&quot;9001&quot;]],AXIS[&quot;Easting&quot;,EAST],AXIS[&quot;Northing&quot;,NORTH],EXTENSION[&quot;PROJ4&quot;,&quot;+proj=merc +a=6378137 +b=6378137 +lat_ts=0 +lon_0=0 +x_0=0 +y_0=0 +k=1 +units=m +nadgrids=@null +wktext +no_defs&quot;],AUTHORITY[&quot;EPSG&quot;,&quot;3857&quot;]]</SRS>
  <GeoTransform> -13888571.34571775, 38.10677761878473, 0, 6340341.066874929, 0, -38.10677761878473</GeoTransform>
  <VRTRasterBand dataType="Byte" band="1">
    <ColorInterp>Red</ColorInterp>
    <ComplexSource>
      <SourceFilename relativeToVRT="1">merged.vrt</SourceFilename>
      <SourceBand>1</SourceBand>
      <SourceProperties RasterXSize="168888" RasterYSize="92453" DataType="Byte" BlockXSize="128" BlockYSize="128"/>
      <SrcRect xOff="0" yOff="0" xSize="168888" ySize="92453"/>
      <DstRect xOff="0" yOff="0" xSize="168888" ySize="92453"/>
      <LUT>0:0,1:0,2:0,3:0,4:0,5:0,6:0,7:0,8:0,9:0,10:0,11:70,12:209,13:0,14:0,15:0,16:0,17:0,18:0,19:0,20:0,21:222,22:217,23:235,24:171,25:0,26:0,27:0,28:0,29:0,30:0,31:179,32:0,33:0,34:0,35:0,36:0,37:0,38:0,39:0,40:0,41:104,42:28,43:181,44:0,45:0,46:0,47:0,48:0,49:0,50:0,51:0,52:204,53:0,54:0,55:0,56:0,57:0,58:0,59:0,60:0,61:0,62:0,63:0,64:0,65:0,66:0,67:0,68:0,69:0,70:0,71:223,72:0,73:0,74:0,75:0,76:0,77:0,78:0,79:0,80:0,81:220,82:171,83:0,84:0,85:0,86:0,87:0,88:0,89:0,90:184,91:0,92:0,93:0,94:0,95:108,96:96,97:97,98:98,99:99,100:100,101:101,102:102,103:103,104:104,105:105,106:106,107:107,108:108,109:109,110:110,111:111,112:112,113:113,114:114,115:115,116:116,117:117,118:118,119:119,120:120,121:121,122:122,123:123,124:124,125:125,126:126,127:127,128:128,129:129,130:130,131:131,132:132,133:133,134:134,135:135,136:136,137:137,138:138,139:139,140:140,141:141,142:142,143:143,144:144,145:145,146:146,147:147,148:148,149:149,150:150,151:151,152:152,153:153,154:154,155:155,156:156,157:157,158:158,159:159,160:160,161:161,162:162,163:163,164:164,165:165,166:166,167:167,168:168,169:169,170:170,171:171,172:172,173:173,174:174,175:175,176:176,177:177,178:178,179:179,180:180,181:181,182:182,183:183,184:184,185:185,186:186,187:187,188:188,189:189,190:190,191:191,192:192,193:193,194:194,195:195,196:196,197:197,198:198,199:199,200:200,201:201,202:202,203:203,204:204,205:205,206:206,207:207,208:208,209:209,210:210,211:211,212:212,213:213,214:214,215:215,216:216,217:217,218:218,219:219,220:220,221:221,222:222,223:223,224:224,225:225,226:226,227:227,228:228,229:229,230:230,231:231,232:232,233:233,234:234,235:235,236:236,237:237,238:238,239:239,240:240,241:241,242:242,243:243,244:244,245:245,246:246,247:247,248:248,249:249,250:250,251:251,252:252,253:253,254:254,254.999999999999972:254,255:0,255:255</LUT>
    </ComplexSource>
  </VRTRasterBand>
  <VRTRasterBand dataType="Byte" band="2">
    <ColorInterp>Green</ColorInterp>
    <ComplexSource>
      <SourceFilename relativeToVRT="1">merged.vrt</SourceFilename>
      <SourceBand>1</SourceBand>
      <SourceProperties RasterXSize="168888" RasterYSize="92453" DataType="Byte" BlockXSize="128" BlockYSize="128"/>
      <SrcRect xOff="0" yOff="0" xSize="168888" ySize="92453"/>
      <DstRect xOff="0" yOff="0" xSize="168888" ySize="92453"/>
      <LUT>0:0,1:0,2:0,3:0,4:0,5:0,6:0,7:0,8:0,9:0,10:0,11:107,12:222,13:0,14:0,15:0,16:0,17:0,18:0,19:0,20:0,21:197,22:146,23:0,24:0,25:0,26:0,27:0,28:0,29:0,30:0,31:172,32:0,33:0,34:0,35:0,36:0,37:0,38:0,39:0,40:0,41:171,42:95,43:197,44:0,45:0,46:0,47:0,48:0,49:0,50:0,51:0,52:184,53:0,54:0,55:0,56:0,57:0,58:0,59:0,60:0,61:0,62:0,63:0,64:0,65:0,66:0,67:0,68:0,69:0,70:0,71:223,72:0,73:0,74:0,75:0,76:0,77:0,78:0,79:0,80:0,81:217,82:108,83:0,84:0,85:0,86:0,87:0,88:0,89:0,90:217,91:0,92:0,93:0,94:0,95:159,96:96,97:97,98:98,99:99,100:100,101:101,102:102,103:103,104:104,105:105,106:106,107:107,108:108,109:109,110:110,111:111,112:112,113:113,114:114,115:115,116:116,117:117,118:118,119:119,120:120,121:121,122:122,123:123,124:124,125:125,126:126,127:127,128:128,129:129,130:130,131:131,132:132,133:133,134:134,135:135,136:136,137:137,138:138,139:139,140:140,141:141,142:142,143:143,144:144,145:145,146:146,147:147,148:148,149:149,150:150,151:151,152:152,153:153,154:154,155:155,156:156,157:157,158:158,159:159,160:160,161:161,162:162,163:163,164:164,165:165,166:166,167:167,168:168,169:169,170:170,171:171,172:172,173:173,174:174,175:175,176:176,177:177,178:178,179:179,180:180,181:181,182:182,183:183,184:184,185:185,186:186,187:187,188:188,189:189,190:190,191:191,192:192,193:193,194:194,195:195,196:196,197:197,198:198,199:199,200:200,201:201,202:202,203:203,204:204,205:205,206:206,207:207,208:208,209:209,210:210,211:211,212:212,213:213,214:214,215:215,216:216,217:217,218:218,219:219,220:220,221:221,222:222,223:223,224:224,225:225,226:226,227:227,228:228,229:229,230:230,231:231,232:232,233:233,234:234,235:235,236:236,237:237,238:238,239:239,240:240,241:241,242:242,243:243,244:244,245:245,246:246,247:247,248:248,249:249,250:250,251:251,252:252,253:253,254:254,254.999999999999972:254,255:0,255:255</LUT>
    </ComplexSource>
  </VRTRasterBand>
  <VRTRasterBand dataType="Byte" band="3">
    <ColorInterp>Blue</ColorInterp>
    <ComplexSource>
      <SourceFilename relativeToVRT="1">merged.vrt</SourceFilename>
      <SourceBand>1</SourceBand>
      <SourceProperties RasterXSize="168888" RasterYSize="92453" DataType="Byte" BlockXSize="128" BlockYSize="128"/>
      <SrcRect xOff="0" yOff="0" xSize="168888" ySize="92453"/>
      <DstRect xOff="0" yOff="0" xSize="168888" ySize="92453"/>
      <LUT>0:0,1:0,2:0,3:0,4:0,5:0,6:0,7:0,8:0,9:0,10:0,11:159,12:248,13:0,14:0,15:0,16:0,17:0,18:0,19:0,20:0,21:197,22:130,23:0,24:0,25:0,26:0,27:0,28:0,29:0,30:0,31:159,32:0,33:0,34:0,35:0,36:0,37:0,38:0,39:0,40:0,41:95,42:44,43:143,44:0,45:0,46:0,47:0,48:0,49:0,50:0,51:0,52:121,53:0,54:0,55:0,56:0,57:0,58:0,59:0,60:0,61:0,62:0,63:0,64:0,65:0,66:0,67:0,68:0,69:0,70:0,71:194,72:0,73:0,74:0,75:0,76:0,77:0,78:0,79:0,80:0,81:57,82:40,83:0,84:0,85:0,86:0,87:0,88:0,89:0,90:235,91:0,92:0,93:0,94:0,95:184,96:96,97:97,98:98,99:99,100:100,101:101,102:102,103:103,104:104,105:105,106:106,107:107,108:108,109:109,110:110,111:111,112:112,113:113,114:114,115:115,116:116,117:117,118:118,119:119,120:120,121:121,122:122,123:123,124:124,125:125,126:126,127:127,128:128,129:129,130:130,131:131,132:132,133:133,134:134,135:135,136:136,137:137,138:138,139:139,140:140,141:141,142:142,143:143,144:144,145:145,146:146,147:147,148:148,149:149,150:150,151:151,152:152,153:153,154:154,155:155,156:156,157:157,158:158,159:159,160:160,161:161,162:162,163:163,164:164,165:165,166:166,167:167,168:168,169:169,170:170,171:171,172:172,173:173,174:174,175:175,176:176,177:177,178:178,179:179,180:180,181:181,182:182,183:183,184:184,185:185,186:186,187:187,188:188,189:189,190:190,191:191,192:192,193:193,194:194,195:195,196:196,197:197,198:198,199:199,200:200,201:201,202:202,203:203,204:204,205:205,206:206,207:207,208:208,209:209,210:210,211:211,212:212,213:213,214:214,215:215,216:216,217:217,218:218,219:219,220:220,221:221,222:222,223:223,224:224,225:225,226:226,227:227,228:228,229:229,230:230,231:231,232:232,233:233,234:234,235:235,236:236,237:237,238:238,239:239,240:240,241:241,242:242,243:243,244:244,245:245,246:246,247:247,248:248,249:249,250:250,251:251,252:252,253:253,254:254,254.999999999999972:254,255:0,255:255</LUT>
    </ComplexSource>
  </VRTRasterBand>
  <VRTRasterBand dataType="Byte" band="4">
    <ColorInterp>Alpha</ColorInterp>
    <ComplexSource>
      <SourceFilename relativeToVRT="1">merged.vrt</SourceFilename>
      <SourceBand>1</SourceBand>
      <SourceProperties RasterXSize="168888" RasterYSize="92453" DataType="Byte" BlockXSize="128" BlockYSize="128"/>
      <SrcRect xOff="0" yOff="0" xSize="168888" ySize="92453"/>
      <DstRect xOff="0" yOff="0" xSize="168888" ySize="92453"/>
      <LUT>0:0,1:255,2:255,3:255,4:255,5:255,6:255,7:255,8:255,9:255,10:255,11:255,12:255,13:255,14:255,15:255,16:255,17:255,18:255,19:255,20:255,21:255,22:255,23:255,24:255,25:255,26:255,27:255,28:255,29:255,30:255,31:255,32:255,33:255,34:255,35:255,36:255,37:255,38:255,39:255,40:255,41:255,42:255,43:255,44:255,45:255,46:255,47:255,48:255,49:255,50:255,51:255,52:255,53:255,54:255,55:255,56:255,57:255,58:255,59:255,60:255,61:255,62:255,63:255,64:255,65:255,66:255,67:255,68:255,69:255,70:255,71:255,72:255,73:255,74:255,75:255,76:255,77:255,78:255,79:255,80:255,81:255,82:255,83:255,84:255,85:255,86:255,87:255,88:255,89:255,90:255,91:255,92:255,93:255,94:255,95:255,96:255,97:255,98:255,99:255,100:255,101:255,102:255,103:255,104:255,105:255,106:255,107:255,108:255,109:255,110:255,111:255,112:255,113:255,114:255,115:255,116:255,117:255,118:255,119:255,120:255,121:255,122:255,123:255,124:255,125:255,126:255,127:255,128:255,129:255,130:255,131:255,132:255,133:255,134:255,135:255,136:255,137:255,138:255,139:255,140:255,141:255,142:255,143:255,144:255,145:255,146:255,147:255,148:255,149:255,150:255,151:255,152:255,153:255,154:255,155:255,156:255,157:255,158:255,159:255,160:255,161:255,162:255,163:255,164:255,165:255,166:255,167:255,168:255,169:255,170:255,171:255,172:255,173:255,174:255,175:255,176:255,177:255,178:255,179:255,180:255,181:255,182:255,183:255,184:255,185:255,186:255,187:255,188:255,189:255,190:255,191:255,192:255,193:255,194:255,195:255,196:255,197:255,198:255,199:255,200:255,201:255,202:255,203:255,204:255,205:255,206:255,207:255,208:255,209:255,210:255,211:255,212:255,213:255,214:255,215:255,216:255,217:255,218:255,219:255,220:255,221:255,222:255,223:255,224:255,225:255,226:255,227:255,228:255,229:255,230:255,231:255,232:255,233:255,234:255,235:255,236:255,237:255,238:255,239:255,240:255,241:255,242:255,243:255,244:255,245:255,246:255,247:255,248:255,249:255,250:255,251:255,252:255,253:255,254:255,254.999999999999972:255,255:0,255:255</LUT>
    </ComplexSource>
  </VRTRasterBand>
</VRTDataset>
