<VRTDataset rasterXSize="182574" rasterYSize="106497">
  <SRS>PROJCS[&quot;WGS 84 / Pseudo-Mercator&quot;,GEOGCS[&quot;WGS 84&quot;,DATUM[&quot;WGS_1984&quot;,SPHEROID[&quot;WGS 84&quot;,6378137,298.257223563,AUTHORITY[&quot;EPSG&quot;,&quot;7030&quot;]],AUTHORITY[&quot;EPSG&quot;,&quot;6326&quot;]],PRIMEM[&quot;Greenwich&quot;,0,AUTHORITY[&quot;EPSG&quot;,&quot;8901&quot;]],UNIT[&quot;degree&quot;,0.0174532925199433,AUTHORITY[&quot;EPSG&quot;,&quot;9122&quot;]],AUTHORITY[&quot;EPSG&quot;,&quot;4326&quot;]],PROJECTION[&quot;Mercator_1SP&quot;],PARAMETER[&quot;central_meridian&quot;,0],PARAMETER[&quot;scale_factor&quot;,1],PARAMETER[&quot;false_easting&quot;,0],PARAMETER[&quot;false_northing&quot;,0],UNIT[&quot;metre&quot;,1,AUTHORITY[&quot;EPSG&quot;,&quot;9001&quot;]],AXIS[&quot;Easting&quot;,EAST],AXIS[&quot;Northing&quot;,NORTH],EXTENSION[&quot;PROJ4&quot;,&quot;+proj=merc +a=6378137 +b=6378137 +lat_ts=0 +lon_0=0 +x_0=0 +y_0=0 +k=1 +units=m +nadgrids=@null +wktext +no_defs&quot;],AUTHORITY[&quot;EPSG&quot;,&quot;3857&quot;]]</SRS>
  <GeoTransform> -14231349.27532584, 38.07321727042201, 0, 6717493.444643996, 0, -38.07321727042201</GeoTransform>
  <VRTRasterBand dataType="Byte" band="1">
    <ColorInterp>Red</ColorInterp>
    <ComplexSource>
      <SourceFilename relativeToVRT="1">vrt_webmercator.vrt</SourceFilename>
      <SourceBand>1</SourceBand>
      <SourceProperties RasterXSize="182574" RasterYSize="106497" DataType="Byte" BlockXSize="512" BlockYSize="128"/>
      <SrcRect xOff="0" yOff="0" xSize="182574" ySize="106497"/>
      <DstRect xOff="0" yOff="0" xSize="182574" ySize="106497"/>
      <LUT>0:0,1:253,2:222,3:187,4:154,5:122,6:93,7:67,8:47,9:34,10:30,11:33,12:37,13:42,14:47,15:53,16:59,17:65,18:70,19:72,20:72,21:68,255:0,255.999999999999943:0,256:0</LUT>
    </ComplexSource>
  </VRTRasterBand>
  <VRTRasterBand dataType="Byte" band="2">
    <ColorInterp>Green</ColorInterp>
    <ComplexSource>
      <SourceFilename relativeToVRT="1">vrt_webmercator.vrt</SourceFilename>
      <SourceBand>1</SourceBand>
      <SourceProperties RasterXSize="182574" RasterYSize="106497" DataType="Byte" BlockXSize="512" BlockYSize="128"/>
      <SrcRect xOff="0" yOff="0" xSize="182574" ySize="106497"/>
      <DstRect xOff="0" yOff="0" xSize="182574" ySize="106497"/>
      <LUT>0:0,1:231,2:227,3:223,4:217,5:209,6:200,7:191,8:180,9:168,10:156,11:144,12:132,13:120,14:108,15:96,16:82,17:68,18:52,19:37,20:20,21:1,255:0,255.999999999999943:0,256:0</LUT>
    </ComplexSource>
  </VRTRasterBand>
  <VRTRasterBand dataType="Byte" band="3">
    <ColorInterp>Blue</ColorInterp>
    <ComplexSource>
      <SourceFilename relativeToVRT="1">vrt_webmercator.vrt</SourceFilename>
      <SourceBand>1</SourceBand>
      <SourceProperties RasterXSize="182574" RasterYSize="106497" DataType="Byte" BlockXSize="512" BlockYSize="128"/>
      <SrcRect xOff="0" yOff="0" xSize="182574" ySize="106497"/>
      <DstRect xOff="0" yOff="0" xSize="182574" ySize="106497"/>
      <LUT>0:0,1:37,2:24,3:39,4:60,5:81,6:99,7:113,8:124,9:132,10:137,11:140,12:142,13:142,14:142,15:141,16:139,17:135,18:128,19:118,20:103,21:84,255:0,255.999999999999943:0,256:0</LUT>
    </ComplexSource>
  </VRTRasterBand>
  <VRTRasterBand dataType="Byte" band="4">
    <ColorInterp>Alpha</ColorInterp>
    <ComplexSource>
      <SourceFilename relativeToVRT="1">vrt_webmercator.vrt</SourceFilename>
      <SourceBand>1</SourceBand>
      <SourceProperties RasterXSize="182574" RasterYSize="106497" DataType="Byte" BlockXSize="512" BlockYSize="128"/>
      <SrcRect xOff="0" yOff="0" xSize="182574" ySize="106497"/>
      <DstRect xOff="0" yOff="0" xSize="182574" ySize="106497"/>
      <LUT>0:0,1:255,2:255,3:255,4:255,5:255,6:255,7:255,8:255,9:255,10:255,11:255,12:255,13:255,14:255,15:255,16:255,17:255,18:255,19:255,20:255,21:255,255:0,255.999999999999943:0,256:0</LUT>
    </ComplexSource>
  </VRTRasterBand>
</VRTDataset>
