<VRTDataset rasterXSize="153710" rasterYSize="95127">
  <SRS dataAxisToSRSAxisMapping="1,2">PROJCS["Albers_Conical_Equal_Area",GEOGCS["NAD83",DATUM["North_American_Datum_1983",SPHEROID["GRS 1980",6378137,298.257222101004,AUTHORITY["EPSG","7019"]],AUTHORITY["EPSG","6269"]],PRIMEM["Greenwich",0],UNIT["degree",0.0174532925199433,AUTHORITY["EPSG","9122"]],AUTHORITY["EPSG","4269"]],PROJECTION["Albers_Conic_Equal_Area"],PARAMETER["latitude_of_center",23],PARAMETER["longitude_of_center",-96],PARAMETER["standard_parallel_1",29.5],PARAMETER["standard_parallel_2",45.5],PARAMETER["false_easting",0],PARAMETER["false_northing",0],UNIT["metre",1,AUTHORITY["EPSG","9001"]],AXIS["Easting",EAST],AXIS["Northing",NORTH]]</SRS>
  <GeoTransform> -2.3549550000000000e+06,  3.0000000000000000e+01,  0.0000000000000000e+00,  3.1656150000000000e+06,  0.0000000000000000e+00, -3.0000000000000000e+01</GeoTransform>
  <VRTRasterBand dataType="Byte" band="1">
    <NoDataValue>256</NoDataValue>
    <ColorInterp>Gray</ColorInterp>
    <ComplexSource>
      <SourceFilename relativeToVRT="0">/data/TARGETR_DATA/management/lanid/irrFreq.tif</SourceFilename>
      <SourceBand>1</SourceBand>
      <SourceProperties RasterXSize="153710" RasterYSize="95127" DataType="Byte" BlockXSize="128" BlockYSize="128" />
      <SrcRect xOff="0" yOff="0" xSize="153710" ySize="95127" />
      <DstRect xOff="0" yOff="0" xSize="153710" ySize="95127" />
      <NODATA>256</NODATA>
    </ComplexSource>
  </VRTRasterBand>
</VRTDataset>
