<VRTDataset rasterXSize="183166" rasterYSize="108187">
  <SRS>PROJCS[&quot;WGS 84 / Pseudo-Mercator&quot;,GEOGCS[&quot;WGS 84&quot;,DATUM[&quot;WGS_1984&quot;,SPHEROID[&quot;WGS 84&quot;,6378137,298.257223563,AUTHORITY[&quot;EPSG&quot;,&quot;7030&quot;]],AUTHORITY[&quot;EPSG&quot;,&quot;6326&quot;]],PRIMEM[&quot;Greenwich&quot;,0,AUTHORITY[&quot;EPSG&quot;,&quot;8901&quot;]],UNIT[&quot;degree&quot;,0.0174532925199433,AUTHORITY[&quot;EPSG&quot;,&quot;9122&quot;]],AUTHORITY[&quot;EPSG&quot;,&quot;4326&quot;]],PROJECTION[&quot;Mercator_1SP&quot;],PARAMETER[&quot;central_meridian&quot;,0],PARAMETER[&quot;scale_factor&quot;,1],PARAMETER[&quot;false_easting&quot;,0],PARAMETER[&quot;false_northing&quot;,0],UNIT[&quot;metre&quot;,1,AUTHORITY[&quot;EPSG&quot;,&quot;9001&quot;]],AXIS[&quot;Easting&quot;,EAST],AXIS[&quot;Northing&quot;,NORTH],EXTENSION[&quot;PROJ4&quot;,&quot;+proj=merc +a=6378137 +b=6378137 +lat_ts=0 +lon_0=0 +x_0=0 +y_0=0 +k=1 +units=m +nadgrids=@null +wktext +no_defs&quot;],AUTHORITY[&quot;EPSG&quot;,&quot;3857&quot;]]</SRS>
  <GeoTransform> -14236366.61466771, 38.00964586157281, 0, 6728989.271149534, 0, -38.00964586157281</GeoTransform>
  <VRTRasterBand dataType="Byte" band="1">
    <ColorInterp>Red</ColorInterp>
    <ComplexSource>
      <SourceFilename relativeToVRT="1">vrt_webmercator.vrt</SourceFilename>
      <SourceBand>1</SourceBand>
      <SourceProperties RasterXSize="183166" RasterYSize="108187" DataType="Int16" BlockXSize="512" BlockYSize="128"/>
      <SrcRect xOff="0" yOff="0" xSize="183166" ySize="108187"/>
      <DstRect xOff="0" yOff="0" xSize="183166" ySize="108187"/>
      <LUT>-32768:0,-32767.9999999999927:11,-117:11,-116:11,-115:11,-114:11,-113:11,-112:11,-111:11,-110:11,-109:11,-108:11,-107:11,-106:11,-105:11,-104:11,-103:11,-102:11,-101:11,-100:11,-99:11,-98:11,-97:11,-96:11,-95:11,-94:11,-93:11,-92:11,-91:11,-90:11,-89:11,-88:11,-87:11,-86:11,-85:11,-84:11,-83:11,-82:11,-81:11,-80:11,-79:11,-78:11,-77:11,-76:11,-75:11,-74:11,-73:11,-72:11,-71:11,-70:11,-69:11,-68:11,-67:11,-66:11,-65:11,-64:11,-63:11,-62:11,-61:11,-60:11,-59:11,-58:11,-57:11,-56:11,-55:11,-54:11,-53:11,-52:11,-51:11,-50:11,-49:11,-48:11,-47:11,-46:11,-45:11,-44:11,-43:11,-42:11,-41:11,-40:11,-39:11,-38:11,-37:11,-36:11,-35:11,-34:11,-33:11,-32:11,-31:11,-30:11,-29:11,-28:11,-27:11,-26:11,-25:11,-24:11,-23:11,-22:11,-21:11,-20:11,-19:11,-18:11,-17:11,-16:11,-15:11,-14:11,-13:11,-12:11,-11:11,-10:11,-9:11,-8:11,-7:11,-6:11,-5:11,-4:11,-3:11,-2:11,-1:11,0:11,1:11,2:11,3:12,4:12,5:12,6:12,7:12,8:13,9:13,10:13,11:13,12:13,13:13,14:13,15:13,16:13,17:13,18:14,19:14,20:14,21:14,22:14,23:14,24:14,25:14,26:14,27:14,28:14,29:14,30:15,31:15,32:15,33:15,34:15,35:15,36:15,37:15,38:15,39:15,40:15,41:15,42:16,43:16,44:16,45:16,46:16,47:16,48:16,49:16,50:16,51:16,52:16,53:17,54:17,55:17,56:17,57:17,58:17,59:17,60:17,61:17,62:17,63:17,64:17,65:18,66:18,67:18,68:18,69:18,70:18,71:18,72:18,73:18,74:18,75:18,76:18,77:19,78:19,79:19,80:19,81:19,82:19,83:19,84:19,85:19,86:19,87:19,88:19,89:20,90:20,91:20,92:20,93:20,94:20,95:20,96:20,97:20,98:20,99:20,100:20,101:21,102:21,103:21,104:21,105:21,106:21,107:21,108:21,109:21,110:21,111:21,112:22,113:22,114:22,115:22,116:22,117:22,118:22,119:22,120:22,121:22,122:22,123:22,124:23,125:23,126:23,127:23,128:23,129:23,130:23,131:23,132:23,133:23,134:23,135:23,136:24,137:24,138:24,139:24,140:24,141:24,142:24,143:24,144:24,145:24,146:24,147:24,148:25,149:25,150:25,151:25,152:25,153:25,154:25,155:25,156:25,157:25,158:25,159:26,160:26,161:26,162:26,163:26,164:26,165:26,166:26,167:26,168:26,169:26,170:26,171:27,172:27,173:27,174:27,175:27,176:27,177:27,178:27,179:27,180:27,181:27,182:27,183:28,184:28,185:28,186:28,187:28,188:28,189:28,190:28,191:28,192:28,193:28,194:28,195:29,196:29,197:29,198:29,199:29,200:29,201:29,202:29,203:29,204:29,205:29,206:30,207:30,208:30,209:30,210:30,211:30,212:30,213:30,214:30,215:30,216:30,217:30,218:31,219:31,220:31,221:31,222:31,223:31,224:31,225:31,226:31,227:31,228:31,229:31,230:32,231:32,232:32,233:32,234:32,235:32,236:32,237:32,238:32,239:32,240:32,241:32,242:33,243:33,244:33,245:33,246:33,247:33,248:33,249:33,250:33,251:33,252:33,253:34,254:34,255:34,256:34,257:34,258:34,259:34,260:34,261:34,262:34,263:34,264:34,265:35,266:35,267:35,268:35,269:35,270:35,271:35,272:35,273:35,274:35,275:35,276:35,277:36,278:36,279:36,280:36,281:36,282:36,283:36,284:36,285:36,286:36,287:36,288:36,289:37,290:37,291:37,292:37,293:37,294:37,295:37,296:37,297:37,298:37,299:37,300:38,301:38,302:38,303:38,304:38,305:38,306:38,307:38,308:38,309:38,310:38,311:38,312:39,313:39,314:39,315:39,316:39,317:39,318:39,319:39,320:39,321:39,322:39,323:39,324:40,325:40,326:40,327:40,328:40,329:40,330:40,331:40,332:40,333:40,334:40,335:41,336:41,337:41,338:41,339:41,340:41,341:41,342:41,343:41,344:41,345:41,346:41,347:41,348:41,349:41,350:41,351:41,352:41,353:41,354:41,355:41,356:41,357:41,358:41,359:41,360:42,361:42,362:42,363:42,364:42,365:42,366:42,367:42,368:42,369:42,370:42,371:43,372:43,373:43,374:43,375:43,376:43,377:43,378:43,379:43,380:43,381:43,382:43,383:44,384:44,385:44,386:44,387:44,388:44,389:44,390:44,391:44,392:44,393:44,394:44,395:45,396:45,397:45,398:45,399:45,400:45,401:45,402:45,403:45,404:45,405:46,406:46,407:46,408:46,409:46,410:46,411:46,412:46,413:46,414:46,415:46,416:46,417:46,418:46,419:46,420:46,421:46,422:46,423:46,424:46,425:46,426:46,427:46,428:46,429:46,430:46,431:47,432:47,433:47,434:47,435:47,436:47,437:47,438:47,439:47,440:47,441:47,442:48,443:48,444:48,445:48,446:48,447:48,448:48,449:48,450:48,451:48,452:48,453:49,454:49,455:49,456:49,457:49,458:49,459:49,460:49,461:49,462:49,463:49,464:49,465:49,466:49,467:49,468:49,469:49,470:49,471:49,472:49,473:49,474:49,475:49,476:49,477:49,478:50,479:50,480:50,481:50,482:50,483:50,484:50,485:50,486:50,487:50,488:50,489:51,490:51,491:51,492:51,493:51,494:51,495:51,496:51,497:51,498:51,499:51,500:52,501:52,502:52,503:52,504:52,505:52,506:52,507:52,508:52,509:52,510:52,511:52,512:52,513:52,514:52,515:52,516:52,517:52,518:52,519:52,520:52,521:52,522:52,523:52,524:53,525:53,526:53,527:53,528:53,529:53,530:53,531:53,532:53,533:53,534:53,535:53,536:53,537:53,538:53,539:53,540:53,541:53,542:53,543:53,544:53,545:53,546:53,547:53,548:53,549:54,550:54,551:54,552:54,553:54,554:54,555:54,556:54,557:54,558:55,559:55,560:55,561:55,562:55,563:55,564:55,565:55,566:55,567:55,568:55,569:55,570:55,571:55,572:55,573:55,574:55,575:55,576:55,577:55,578:55,579:55,580:55,581:55,582:55,583:56,584:56,585:56,586:56,587:56,588:56,589:56,590:56,591:56,592:56,593:56,594:56,595:56,596:56,597:56,598:56,599:56,600:56,601:56,602:56,603:56,604:56,605:56,606:56,607:56,608:57,609:57,610:57,611:57,612:57,613:57,614:57,615:57,616:57,617:58,618:58,619:58,620:58,621:58,622:58,623:58,624:58,625:58,626:58,627:58,628:58,629:58,630:58,631:58,632:58,633:58,634:58,635:58,636:58,637:58,638:58,639:58,640:58,641:58,642:59,643:59,644:59,645:59,646:59,647:59,648:59,649:59,650:59,651:59,652:59,653:59,654:59,655:59,656:59,657:59,658:59,659:59,660:59,661:59,662:59,663:59,664:59,665:59,666:59,667:59,668:59,669:59,670:59,671:59,672:59,673:59,674:59,675:59,676:59,677:60,678:60,679:60,680:60,681:60,682:60,683:60,684:60,685:60,686:60,687:60,688:60,689:60,690:60,691:60,692:60,693:60,694:60,695:60,696:60,697:60,698:60,699:60,700:60,701:61,702:61,703:61,704:61,705:61,706:61,707:61,708:61,709:61,710:61,711:61,712:61,713:61,714:61,715:61,716:61,717:61,718:61,719:61,720:61,721:61,722:61,723:61,724:62,725:62,726:62,727:62,728:62,729:62,730:62,731:62,732:62,733:62,734:62,735:62,736:62,737:62,738:62,739:62,740:62,741:62,742:62,743:62,744:62,745:62,746:62,747:62,748:62,749:62,750:62,751:62,752:62,753:62,754:62,755:62,756:62,757:62,758:62,759:63,760:63,761:63,762:63,763:63,764:63,765:63,766:63,767:63,768:63,769:63,770:63,771:63,772:63,773:63,774:63,775:63,776:63,777:63,778:63,779:63,780:63,781:63,782:63,783:63,784:63,785:63,786:63,787:63,788:63,789:63,790:63,791:63,792:63,793:63,794:63,795:64,796:64,797:64,798:64,799:64,800:64,801:64,802:64,803:64,804:64,805:64,806:64,807:64,808:64,809:64,810:64,811:64,812:64,813:64,814:64,815:64,816:64,817:64,818:64,819:64,820:64,821:64,822:64,823:64,824:64,825:64,826:64,827:64,828:64,829:64,830:64,831:64,832:64,833:64,834:64,835:64,836:64,837:64,838:64,839:64,840:64,841:64,842:64,843:64,844:64,845:64,846:64,847:64,848:64,849:64,850:64,851:64,852:64,853:65,854:65,855:65,856:65,857:65,858:65,859:65,860:65,861:65,862:65,863:65,864:65,865:65,866:65,867:65,868:65,869:65,870:65,871:65,872:65,873:65,874:65,875:65,876:65,877:65,878:65,879:65,880:65,881:65,882:65,883:65,884:65,885:65,886:65,887:65,888:65,889:65,890:65,891:65,892:65,893:65,894:65,895:65,896:65,897:65,898:65,899:65,900:65,901:65,902:65,903:65,904:65,905:65,906:65,907:65,908:65,909:65,910:65,911:65,912:65,913:65,914:65,915:65,916:65,917:65,918:65,919:65,920:65,921:65,922:65,923:65,924:65,925:65,926:65,927:65,928:65,929:65,930:65,931:65,932:65,933:65,934:65,935:65,936:65,937:65,938:65,939:65,940:65,941:65,942:65,943:65,944:65,945:65,946:65,947:65,948:65,949:65,950:65,951:65,952:65,953:65,954:65,955:65,956:65,957:65,958:65,959:64,960:64,961:64,962:64,963:64,964:64,965:64,966:64,967:64,968:64,969:64,970:64,971:64,972:64,973:64,974:64,975:64,976:64,977:64,978:64,979:64,980:64,981:64,982:64,983:64,984:64,985:64,986:64,987:64,988:64,989:64,990:64,991:64,992:64,993:64,994:64,995:64,996:64,997:64,998:64,999:64,1000:64,1001:64,1002:64,1003:64,1004:64,1005:64,1006:64,1007:63,1008:63,1009:63,1010:63,1011:63,1012:63,1013:63,1014:63,1015:63,1016:63,1017:63,1018:63,1019:63,1020:63,1021:63,1022:63,1023:63,1024:63,1025:63,1026:63,1027:63,1028:63,1029:63,1030:63,1031:63,1032:63,1033:63,1034:63,1035:63,1036:63,1037:63,1038:63,1039:63,1040:63,1041:63,1042:62,1043:62,1044:62,1045:62,1046:62,1047:62,1048:62,1049:62,1050:62,1051:62,1052:62,1053:62,1054:62,1055:62,1056:62,1057:62,1058:62,1059:62,1060:62,1061:62,1062:62,1063:62,1064:62,1065:62,1066:62,1067:62,1068:62,1069:62,1070:62,1071:62,1072:62,1073:62,1074:62,1075:62,1076:62,1077:61,1078:61,1079:61,1080:61,1081:61,1082:61,1083:61,1084:61,1085:61,1086:61,1087:61,1088:61,1089:61,1090:61,1091:61,1092:61,1093:61,1094:61,1095:61,1096:61,1097:61,1098:61,1099:61,1100:61,1101:60,1102:60,1103:60,1104:60,1105:60,1106:60,1107:60,1108:60,1109:60,1110:60,1111:60,1112:60,1113:60,1114:60,1115:60,1116:60,1117:60,1118:60,1119:60,1120:60,1121:60,1122:60,1123:60,1124:59,1125:59,1126:59,1127:59,1128:59,1129:59,1130:59,1131:59,1132:59,1133:59,1134:59,1135:59,1136:59,1137:59,1138:59,1139:59,1140:59,1141:59,1142:59,1143:59,1144:59,1145:59,1146:59,1147:59,1148:59,1149:59,1150:59,1151:59,1152:59,1153:59,1154:59,1155:59,1156:59,1157:59,1158:59,1159:58,1160:58,1161:58,1162:58,1163:58,1164:58,1165:58,1166:58,1167:58,1168:58,1169:58,1170:58,1171:58,1172:58,1173:58,1174:58,1175:58,1176:58,1177:58,1178:58,1179:58,1180:58,1181:58,1182:58,1183:58,1184:58,1185:58,1186:58,1187:58,1188:58,1189:58,1190:58,1191:58,1192:58,1193:58,1194:57,1195:57,1196:57,1197:57,1198:57,1199:57,1200:57,1201:57,1202:57,1203:57,1204:57,1205:57,1206:57,1207:57,1208:57,1209:57,1210:57,1211:57,1212:57,1213:57,1214:57,1215:57,1216:57,1217:57,1218:56,1219:56,1220:56,1221:56,1222:56,1223:56,1224:56,1225:56,1226:56,1227:56,1228:56,1229:56,1230:56,1231:56,1232:56,1233:56,1234:56,1235:56,1236:56,1237:56,1238:56,1239:56,1240:56,1241:56,1242:56,1243:56,1244:56,1245:56,1246:56,1247:56,1248:56,1249:56,1250:56,1251:56,1252:56,1253:56,1254:56,1255:56,1256:56,1257:56,1258:56,1259:56,1260:56,1261:56,1262:56,1263:56,1264:56,1265:55,1266:55,1267:55,1268:55,1269:55,1270:55,1271:55,1272:55,1273:55,1274:55,1275:55,1276:55,1277:55,1278:55,1279:55,1280:55,1281:55,1282:55,1283:55,1284:55,1285:55,1286:55,1287:55,1288:55,1289:55,1290:55,1291:55,1292:55,1293:55,1294:55,1295:55,1296:55,1297:55,1298:55,1299:55,1300:55,1301:55,1302:55,1303:55,1304:55,1305:55,1306:55,1307:55,1308:55,1309:55,1310:55,1311:55,1312:54,1313:54,1314:54,1315:54,1316:54,1317:54,1318:54,1319:54,1320:54,1321:54,1322:54,1323:54,1324:54,1325:54,1326:54,1327:54,1328:54,1329:54,1330:54,1331:54,1332:54,1333:54,1334:54,1335:54,1336:54,1337:54,1338:54,1339:54,1340:54,1341:54,1342:54,1343:54,1344:54,1345:54,1346:54,1347:54,1348:54,1349:54,1350:54,1351:54,1352:54,1353:54,1354:54,1355:54,1356:54,1357:54,1358:54,1359:54,1360:54,1361:54,1362:54,1363:54,1364:54,1365:54,1366:54,1367:54,1368:54,1369:54,1370:54,1371:54,1372:54,1373:54,1374:54,1375:54,1376:54,1377:54,1378:54,1379:54,1380:54,1381:54,1382:54,1383:54,1384:54,1385:54,1386:54,1387:54,1388:54,1389:54,1390:54,1391:54,1392:54,1393:54,1394:54,1395:54,1396:54,1397:54,1398:54,1399:54,1400:54,1401:54,1402:54,1403:54,1404:54,1405:54,1406:53,1407:53,1408:53,1409:53,1410:53,1411:53,1412:53,1413:53,1414:53,1415:53,1416:53,1417:53,1418:53,1419:53,1420:53,1421:53,1422:53,1423:53,1424:53,1425:53,1426:53,1427:53,1428:53,1429:53,1430:53,1431:53,1432:53,1433:53,1434:53,1435:53,1436:53,1437:53,1438:53,1439:53,1440:53,1441:53,1442:53,1443:53,1444:53,1445:53,1446:53,1447:53,1448:53,1449:53,1450:53,1451:53,1452:53,1453:53,1454:53,1455:53,1456:53,1457:53,1458:53,1459:53,1460:53,1461:53,1462:53,1463:53,1464:53,1465:53,1466:53,1467:53,1468:53,1469:53,1470:53,1471:53,1472:53,1473:53,1474:53,1475:53,1476:53,1477:53,1478:53,1479:53,1480:53,1481:53,1482:53,1483:53,1484:53,1485:53,1486:53,1487:53,1488:53,1489:53,1490:53,1491:53,1492:53,1493:53,1494:53,1495:53,1496:53,1497:53,1498:53,1499:53,1500:53,1501:53,1502:53,1503:53,1504:53,1505:53,1506:53,1507:53,1508:53,1509:53,1510:53,1511:53,1512:53,1513:53,1514:53,1515:53,1516:53,1517:53,1518:53,1519:53,1520:53,1521:53,1522:53,1523:53,1524:53,1525:53,1526:53,1527:53,1528:53,1529:53,1530:53,1531:53,1532:53,1533:53,1534:53,1535:53,1536:53,1537:53,1538:53,1539:53,1540:53,1541:53,1542:53,1543:53,1544:53,1545:53,1546:53,1547:53,1548:52,1549:52,1550:52,1551:52,1552:52,1553:52,1554:52,1555:52,1556:52,1557:52,1558:52,1559:52,1560:52,1561:52,1562:52,1563:52,1564:52,1565:52,1566:52,1567:52,1568:52,1569:52,1570:52,1571:52,1572:52,1573:52,1574:52,1575:52,1576:52,1577:52,1578:52,1579:52,1580:52,1581:52,1582:52,1583:52,1584:52,1585:52,1586:52,1587:52,1588:52,1589:52,1590:52,1591:52,1592:52,1593:52,1594:52,1595:52,1596:52,1597:52,1598:52,1599:52,1600:52,1601:52,1602:52,1603:52,1604:52,1605:52,1606:52,1607:52,1608:52,1609:52,1610:52,1611:52,1612:52,1613:52,1614:52,1615:52,1616:52,1617:52,1618:52,1619:52,1620:52,1621:52,1622:52,1623:52,1624:52,1625:52,1626:52,1627:52,1628:52,1629:52,1630:52,1631:52,1632:52,1633:52,1634:52,1635:52,1636:52,1637:52,1638:52,1639:52,1640:52,1641:52,1642:52,1643:52,1644:52,1645:52,1646:52,1647:52,1648:52,1649:52,1650:52,1651:52,1652:52,1653:52,1654:52,1655:52,1656:52,1657:52,1658:52,1659:52,1660:52,1661:52,1662:52,1663:52,1664:52,1665:52,1666:52,1667:52,1668:52,1669:52,1670:52,1671:52,1672:52,1673:52,1674:52,1675:52,1676:52,1677:52,1678:52,1679:52,1680:52,1681:52,1682:52,1683:52,1684:52,1685:52,1686:52,1687:52,1688:52,1689:52,1690:52,1691:52,1692:52,1693:52,1694:52,1695:52,1696:52,1697:52,1698:52,1699:52,1700:52,1701:52,1702:52,1703:52,1704:52,1705:52,1706:52,1707:52,1708:52,1709:52,1710:52,1711:52,1712:52,1713:52,1714:52,1715:52,1716:52,1717:52,1718:52,1719:52,1720:52,1721:52,1722:52,1723:52,1724:52,1725:52,1726:52,1727:52,1728:52,1729:52,1730:52,1731:52,1732:52,1733:52,1734:52,1735:52,1736:52,1737:52,1738:52,1739:52,1740:52,1741:52,1742:52,1743:52,1744:52,1745:52,1746:52,1747:52,1748:52,1749:52,1750:52,1751:52,1752:52,1753:52,1754:52,1755:52,1756:52,1757:52,1758:52,1759:52,1760:52,1761:52,1762:52,1763:52,1764:52,1765:52,1766:52,1767:52,1768:52,1769:52,1770:52,1771:52,1772:52,1773:52,1774:52,1775:52,1776:52,1777:52,1778:52,1779:52,1780:52,1781:52,1782:52,1783:52,1784:52,1785:52,1786:52,1787:52,1788:52,1789:52,1790:52,1791:52,1792:52,1793:52,1794:52,1795:52,1796:52,1797:52,1798:52,1799:52,1800:52,1801:52,1802:52,1803:52,1804:52,1805:52,1806:52,1807:52,1808:52,1809:52,1810:52,1811:52,1812:52,1813:52,1814:52,1815:52,1816:52,1817:52,1818:52,1819:52,1820:52,1821:52,1822:52,1823:52,1824:52,1825:52,1826:52,1827:52,1828:52,1829:52,1830:52,1831:52,1832:52,1833:52,1834:52,1835:52,1836:52,1837:52,1838:52,1839:52,1840:52,1841:52,1842:53,1843:53,1844:53,1845:53,1846:53,1847:53,1848:53,1849:53,1850:53,1851:53,1852:53,1853:53,1854:53,1855:53,1856:53,1857:53,1858:53,1859:53,1860:53,1861:53,1862:53,1863:53,1864:53,1865:53,1866:53,1867:53,1868:53,1869:53,1870:53,1871:53,1872:53,1873:53,1874:53,1875:53,1876:53,1877:53,1878:53,1879:53,1880:53,1881:53,1882:53,1883:53,1884:53,1885:53,1886:53,1887:53,1888:53,1889:53,1890:53,1891:53,1892:53,1893:53,1894:53,1895:53,1896:53,1897:53,1898:53,1899:53,1900:53,1901:53,1902:53,1903:53,1904:53,1905:53,1906:53,1907:53,1908:53,1909:53,1910:53,1911:53,1912:54,1913:54,1914:54,1915:54,1916:54,1917:54,1918:54,1919:54,1920:54,1921:54,1922:54,1923:54,1924:54,1925:54,1926:54,1927:54,1928:54,1929:54,1930:54,1931:54,1932:54,1933:54,1934:54,1935:54,1936:54,1937:54,1938:54,1939:54,1940:54,1941:54,1942:54,1943:54,1944:54,1945:54,1946:54,1947:54,1948:55,1949:55,1950:55,1951:55,1952:55,1953:55,1954:55,1955:55,1956:55,1957:55,1958:55,1959:55,1960:55,1961:55,1962:55,1963:55,1964:55,1965:55,1966:55,1967:55,1968:55,1969:55,1970:55,1971:55,1972:55,1973:55,1974:55,1975:55,1976:55,1977:55,1978:55,1979:55,1980:55,1981:55,1982:56,1983:56,1984:56,1985:56,1986:56,1987:56,1988:56,1989:56,1990:56,1991:56,1992:56,1993:56,1994:56,1995:56,1996:56,1997:56,1998:56,1999:56,2000:56,2001:56,2002:56,2003:56,2004:56,2005:56,2006:57,2007:57,2008:57,2009:57,2010:57,2011:57,2012:57,2013:57,2014:57,2015:57,2016:57,2017:57,2018:57,2019:57,2020:57,2021:57,2022:57,2023:57,2024:57,2025:57,2026:57,2027:57,2028:57,2029:57,2030:58,2031:58,2032:58,2033:58,2034:58,2035:58,2036:58,2037:58,2038:58,2039:58,2040:58,2041:58,2042:58,2043:58,2044:58,2045:58,2046:58,2047:58,2048:58,2049:58,2050:58,2051:58,2052:58,2053:58,2054:58,2055:59,2056:59,2057:59,2058:59,2059:59,2060:59,2061:59,2062:59,2063:59,2064:60,2065:60,2066:60,2067:60,2068:60,2069:60,2070:60,2071:60,2072:60,2073:60,2074:60,2075:60,2076:60,2077:60,2078:60,2079:60,2080:60,2081:60,2082:60,2083:60,2084:60,2085:60,2086:60,2087:60,2088:60,2089:60,2090:61,2091:61,2092:61,2093:61,2094:61,2095:61,2096:61,2097:61,2098:61,2099:61,2100:61,2101:62,2102:62,2103:62,2104:62,2105:62,2106:62,2107:62,2108:62,2109:62,2110:62,2111:63,2112:63,2113:63,2114:63,2115:63,2116:63,2117:63,2118:63,2119:63,2120:63,2121:63,2122:63,2123:63,2124:63,2125:63,2126:63,2127:63,2128:63,2129:63,2130:63,2131:63,2132:63,2133:63,2134:63,2135:63,2136:63,2137:64,2138:64,2139:64,2140:64,2141:64,2142:64,2143:64,2144:64,2145:64,2146:64,2147:65,2148:65,2149:65,2150:65,2151:65,2152:65,2153:65,2154:65,2155:65,2156:65,2157:65,2158:65,2159:66,2160:66,2161:66,2162:66,2163:66,2164:66,2165:66,2166:66,2167:66,2168:66,2169:66,2170:66,2171:67,2172:67,2173:67,2174:67,2175:67,2176:67,2177:67,2178:67,2179:67,2180:67,2181:67,2182:67,2183:68,2184:68,2185:68,2186:68,2187:68,2188:68,2189:68,2190:68,2191:68,2192:68,2193:68,2194:68,2195:69,2196:69,2197:69,2198:69,2199:69,2200:69,2201:69,2202:69,2203:69,2204:69,2205:69,2206:70,2207:70,2208:70,2209:70,2210:70,2211:70,2212:70,2213:70,2214:70,2215:70,2216:70,2217:70,2218:71,2219:71,2220:71,2221:71,2222:71,2223:71,2224:71,2225:71,2226:71,2227:71,2228:71,2229:71,2230:72,2231:72,2232:72,2233:72,2234:72,2235:72,2236:72,2237:72,2238:72,2239:72,2240:72,2241:72,2242:72,2243:73,2244:73,2245:73,2246:73,2247:73,2248:73,2249:73,2250:73,2251:74,2252:74,2253:74,2254:74,2255:74,2256:75,2257:75,2258:75,2259:75,2260:75,2261:75,2262:75,2263:75,2264:76,2265:76,2266:76,2267:76,2268:76,2269:76,2270:76,2271:76,2272:76,2273:76,2274:76,2275:76,2276:76,2277:76,2278:76,2279:77,2280:77,2281:77,2282:77,2283:77,2284:77,2285:77,2286:78,2287:78,2288:78,2289:78,2290:78,2291:79,2292:79,2293:79,2294:79,2295:79,2296:79,2297:79,2298:79,2299:79,2300:79,2301:80,2302:80,2303:80,2304:80,2305:80,2306:80,2307:80,2308:80,2309:80,2310:81,2311:81,2312:81,2313:81,2314:81,2315:82,2316:82,2317:82,2318:82,2319:82,2320:82,2321:82,2322:82,2323:82,2324:83,2325:83,2326:83,2327:83,2328:83,2329:83,2330:83,2331:83,2332:83,2333:83,2334:84,2335:84,2336:84,2337:84,2338:84,2339:85,2340:85,2341:85,2342:85,2343:85,2344:86,2345:86,2346:86,2347:86,2348:86,2349:86,2350:87,2351:87,2352:87,2353:87,2354:87,2355:87,2356:88,2357:88,2358:88,2359:88,2360:88,2361:88,2362:89,2363:89,2364:89,2365:89,2366:89,2367:89,2368:89,2369:90,2370:90,2371:90,2372:90,2373:90,2374:90,2375:91,2376:91,2377:91,2378:91,2379:92,2380:92,2381:92,2382:92,2383:93,2384:93,2385:93,2386:93,2387:94,2388:94,2389:94,2390:94,2391:95,2392:95,2393:95,2394:95,2395:95,2396:95,2397:96,2398:96,2399:96,2400:96,2401:96,2402:96,2403:96,2404:97,2405:97,2406:97,2407:97,2408:97,2409:97,2410:98,2411:98,2412:98,2413:98,2414:98,2415:99,2416:99,2417:99,2418:99,2419:100,2420:100,2421:100,2422:101,2423:101,2424:101,2425:101,2426:102,2427:102,2428:102,2429:103,2430:103,2431:103,2432:103,2433:104,2434:104,2435:104,2436:104,2437:104,2438:104,2439:105,2440:105,2441:105,2442:105,2443:105,2444:105,2445:106,2446:106,2447:106,2448:106,2449:106,2450:107,2451:107,2452:107,2453:107,2454:108,2455:108,2456:108,2457:109,2458:109,2459:109,2460:109,2461:110,2462:110,2463:110,2464:110,2465:111,2466:111,2467:111,2468:111,2469:112,2470:112,2471:112,2472:112,2473:113,2474:113,2475:113,2476:113,2477:114,2478:114,2479:114,2480:114,2481:115,2482:115,2483:115,2484:115,2485:116,2486:116,2487:116,2488:116,2489:117,2490:117,2491:117,2492:117,2493:118,2494:118,2495:118,2496:118,2497:119,2498:119,2499:119,2500:120,2501:120,2502:120,2503:120,2504:121,2505:121,2506:121,2507:121,2508:122,2509:122,2510:122,2511:122,2512:123,2513:123,2514:123,2515:123,2516:124,2517:124,2518:124,2519:124,2520:125,2521:125,2522:125,2523:125,2524:126,2525:126,2526:126,2527:126,2528:127,2529:127,2530:127,2531:127,2532:128,2533:128,2534:128,2535:128,2536:129,2537:129,2538:129,2539:129,2540:130,2541:130,2542:130,2543:130,2544:131,2545:131,2546:131,2547:131,2548:132,2549:132,2550:132,2551:133,2552:133,2553:133,2554:133,2555:134,2556:134,2557:134,2558:134,2559:135,2560:135,2561:135,2562:135,2563:136,2564:136,2565:136,2566:136,2567:137,2568:137,2569:137,2570:137,2571:138,2572:138,2573:138,2574:138,2575:139,2576:139,2577:139,2578:139,2579:140,2580:140,2581:140,2582:140,2583:141,2584:141,2585:141,2586:141,2587:142,2588:142,2589:142,2590:142,2591:143,2592:143,2593:143,2594:143,2595:144,2596:144,2597:144,2598:144,2599:145,2600:145,2601:145,2602:146,2603:146,2604:146,2605:146,2606:147,2607:147,2608:147,2609:147,2610:148,2611:148,2612:148,2613:148,2614:148,2615:149,2616:149,2617:149,2618:149,2619:149,2620:149,2621:150,2622:150,2623:150,2624:150,2625:150,2626:151,2627:151,2628:151,2629:151,2630:152,2631:152,2632:152,2633:152,2634:153,2635:153,2636:153,2637:153,2638:154,2639:154,2640:154,2641:155,2642:155,2643:155,2644:155,2645:156,2646:156,2647:156,2648:156,2649:156,2650:157,2651:157,2652:157,2653:157,2654:157,2655:157,2656:157,2657:158,2658:158,2659:158,2660:158,2661:158,2662:159,2663:159,2664:159,2665:159,2666:160,2667:160,2668:160,2669:161,2670:161,2671:161,2672:161,2673:162,2674:162,2675:162,2676:163,2677:163,2678:163,2679:163,2680:164,2681:164,2682:164,2683:164,2684:164,2685:164,2686:165,2687:165,2688:165,2689:165,2690:165,2691:165,2692:166,2693:166,2694:166,2695:166,2696:166,2697:167,2698:167,2699:167,2700:168,2701:168,2702:168,2703:168,2704:169,2705:169,2706:169,2707:169,2708:169,2709:170,2710:170,2711:170,2712:170,2713:170,2714:170,2715:171,2716:171,2717:171,2718:171,2719:171,2720:172,2721:172,2722:172,2723:172,2724:173,2725:173,2726:173,2727:173,2728:174,2729:174,2730:174,2731:174,2732:175,2733:175,2734:175,2735:175,2736:175,2737:175,2738:176,2739:176,2740:176,2741:176,2742:176,2743:176,2744:176,2745:177,2746:177,2747:177,2748:177,2749:177,2750:177,2751:178,2752:178,2753:178,2754:178,2755:178,2756:179,2757:179,2758:179,2759:180,2760:180,2761:180,2762:180,2763:181,2764:181,2765:181,2766:181,2767:181,2768:182,2769:182,2770:182,2771:182,2772:182,2773:182,2774:183,2775:183,2776:183,2777:183,2778:183,2779:183,2780:184,2781:1