<VRTDataset rasterXSize="153811" rasterYSize="96767">
  <SRS dataAxisToSRSAxisMapping="1,2">PROJCS["NAD83 / Conus Albers",GEOGCS["NAD83",DATUM["North_American_Datum_1983",SPHEROID["GRS 1980",6378137,298.257222101,AUTHORITY["EPSG","7019"]],AUTHORITY["EPSG","6269"]],PRIMEM["Greenwich",0,AUTHORITY["EPSG","8901"]],UNIT["degree",0.0174532925199433,AUTHORITY["EPSG","9122"]],AUTHORITY["EPSG","4269"]],PROJECTION["Albers_Conic_Equal_Area"],PARAMETER["latitude_of_center",23],PARAMETER["longitude_of_center",-96],PARAMETER["standard_parallel_1",29.5],PARAMETER["standard_parallel_2",45.5],PARAMETER["false_easting",0],PARAMETER["false_northing",0],UNIT["metre",1,AUTHORITY["EPSG","9001"]],AXIS["Easting",EAST],AXIS["Northing",NORTH],AUTHORITY["EPSG","5070"]]</SRS>
  <GeoTransform> -2.3561250000000000e+06,  3.0000000000000000e+01,  0.0000000000000000e+00,  3.1725750000000000e+06,  0.0000000000000000e+00, -3.0000000000000000e+01</GeoTransform>
  <VRTRasterBand dataType="Int16" band="1">
    <NoDataValue>-32768</NoDataValue>
    <ColorInterp>Gray</ColorInterp>
    <ComplexSource>
      <SourceFilename relativeToVRT="0">/data/TARGETR_DATA/elevation/LC20_Elev_220.tif</SourceFilename>
      <SourceBand>1</SourceBand>
      <SourceProperties RasterXSize="153811" RasterYSize="96767" DataType="Int16" BlockXSize="153811" BlockYSize="1" />
      <SrcRect xOff="0" yOff="0" xSize="153811" ySize="96767" />
      <DstRect xOff="0" yOff="0" xSize="153811" ySize="96767" />
      <NODATA>-32768</NODATA>
    </ComplexSource>
  </VRTRasterBand>
</VRTDataset>
