<VRTDataset rasterXSize="168744" rasterYSize="92374">
  <SRS>PROJCS[&quot;WGS 84 / Pseudo-Mercator&quot;,GEOGCS[&quot;WGS 84&quot;,DATUM[&quot;WGS_1984&quot;,SPHEROID[&quot;WGS 84&quot;,6378137,298.257223563,AUTHORITY[&quot;EPSG&quot;,&quot;7030&quot;]],AUTHORITY[&quot;EPSG&quot;,&quot;6326&quot;]],PRIMEM[&quot;Greenwich&quot;,0,AUTHORITY[&quot;EPSG&quot;,&quot;8901&quot;]],UNIT[&quot;degree&quot;,0.0174532925199433,AUTHORITY[&quot;EPSG&quot;,&quot;9122&quot;]],AUTHORITY[&quot;EPSG&quot;,&quot;4326&quot;]],PROJECTION[&quot;Mercator_1SP&quot;],PARAMETER[&quot;central_meridian&quot;,0],PARAMETER[&quot;scale_factor&quot;,1],PARAMETER[&quot;false_easting&quot;,0],PARAMETER[&quot;false_northing&quot;,0],UNIT[&quot;metre&quot;,1,AUTHORITY[&quot;EPSG&quot;,&quot;9001&quot;]],AXIS[&quot;Easting&quot;,EAST],AXIS[&quot;Northing&quot;,NORTH],EXTENSION[&quot;PROJ4&quot;,&quot;+proj=merc +a=6378137 +b=6378137 +lat_ts=0 +lon_0=0 +x_0=0 +y_0=0 +k=1 +units=m +nadgrids=@null +wktext +no_defs&quot;],AUTHORITY[&quot;EPSG&quot;,&quot;3857&quot;]]</SRS>
  <GeoTransform> -13888565.85080429, 38.13927071794855, 0, 6340333.78314711, 0, -38.13927071794855</GeoTransform>
  <VRTRasterBand dataType="Byte" band="1">
    <ColorInterp>Red</ColorInterp>
    <ComplexSource>
      <SourceFilename relativeToVRT="1">merged.vrt</SourceFilename>
      <SourceBand>1</SourceBand>
      <SourceProperties RasterXSize="168744" RasterYSize="92374" DataType="Int16" BlockXSize="128" BlockYSize="128"/>
      <SrcRect xOff="0" yOff="0" xSize="168744" ySize="92374"/>
      <DstRect xOff="0" yOff="0" xSize="168744" ySize="92374"/>
      <LUT>-32768:0,-32767.9999999999964:0,-9999:0,-1111:110,11:0,12:158,31:191,381:255,383:255,384:255,385:255,386:205,387:137,388:131,389:133,390:255,391:137,392:255,393:228,394:52,395:216,396:167,397:255,398:52,399:230,400:216,401:10,402:255,403:158,404:52,405:255,406:133,407:255,408:255,409:77,410:255,411:77,412:255,413:77,414:255,415:77,416:255,417:200,418:149,419:230,420:255,421:94,422:17,423:168,424:211,425:56,426:191,427:189,428:19,429:56,430:255,431:137,432:137,433:235,434:131,435:255,436:230,437:193,438:205,439:184,440:170,441:167,442:219,443:0,444:225,445:154,446:123,447:49,448:68,449:214,450:84,451:255,452:77,453:10,454:255,456:200,457:149,458:230,459:255,460:94,461:17,462:102,463:168,464:211,465:56,466:191,467:19,468:255,469:244,470:137,471:137,472:131,473:255,474:230,475:170,476:167,477:130,478:93,479:0,480:225,481:154,482:123,483:49,484:68,485:214,486:255,487:84,488:255,491:205,492:114,493:14,494:114,495:168,496:230,497:191,498:56,499:255,500:244,501:216,502:137,503:52,505:175,506:133,508:174,510:114,512:232,513:137,516:230,517:193,518:184,519:0,520:225,521:154,522:123,523:84,525:255,526:205,527:114,528:0,530:160,531:168,532:255,533:216,534:52,535:244,536:255,537:175,538:172,539:255,540:232,541:137,542:255,544:184,545:123,546:84,547:255,548:168,549:244,550:237,551:158,552:84,553:219,554:179,555:167,556:255,557:226,558:170,560:255,561:200,562:200,563:209,564:172,565:244,566:68,567:179,568:147,569:205,570:237,571:0,572:198,573:65,574:68,575:209,576:237,577:255,579:255,580:14,581:114,582:14,583:244,584:158,585:84,586:219,587:179,588:167,589:255,590:255,591:226,592:114,593:163,594:255,595:189,596:126,597:179,598:230,599:191,600:140,601:24,602:56,604:244,605:216,606:52,607:200,608:209,609:174,610:244,611:179,612:255,613:230,614:100,615:0,616:198,617:65,618:225,619:154,620:255,621:77,622:255,623:14,624:114,625:14,626:200,627:255,628:94,629:168,630:168,631:211,632:56,633:230,634:191,635:189,636:56,637:255,638:244,639:137,640:235,641:131,642:255,643:230,644:193,645:205,646:184,647:170,648:167,649:219,650:130,651:0,652:225,653:154,654:123,655:49,656:68,657:255,658:214,659:84,660:255,661:14,662:200,663:94,664:168,665:211,666:56,667:230,668:189,669:255,670:244,671:137,672:235,673:131,674:255,675:230,676:193,677:205,678:184,679:170,680:219,681:225,682:154,683:123,684:49,685:255,686:255,687:255,688:200,689:255,690:102,691:189,692:114,693:211,694:56,695:191,696:19,697:255,698:255,699:244,700:137,701:137,702:137,703:131,704:230,705:193,706:170,707:167,708:130,709:93,710:0,711:225,712:123,713:49,714:68,715:214,716:84,717:255,718:255,719:77,720:255,721:94,722:137,723:212,724:221,725:255,726:170,727:165,728:114,729:249,730:200,731:255,732:168,733:211,734:56,735:205,736:255,737:189,738:19,739:255,740:255,741:255,742:137,743:214,744:235,745:131,746:255,747:230,748:198,749:154,750:177,751:70,752:188,753:172,754:255,755:84,756:167,757:244,758:216,759:214,760:255,761:168,762:244,763:237,764:158,765:84,766:219,767:179,768:167,769:255,770:137,771:212,772:221,773:170,775:205,776:255,777:214,778:147,779:237,780:65,781:177,782:70,783:188,784:172,785:209,786:214,787:255,788:255,789:255,790:255,791:255,792:14,793:94,794:114,795:244,796:237,797:158,798:84,799:219,800:179,801:167,802:255,803:226,804:114,805:137,806:221,807:255,808:170,809:165,810:114,811:249,812:163,813:255,814:200,815:255,816:168,817:168,818:56,819:126,820:205,821:191,822:255,823:19,824:255,825:244,826:200,827:209,828:174,829:244,830:179,831:214,832:235,833:131,834:255,835:230,836:193,837:184,838:65,839:225,840:154,841:177,842:188,843:172,844:255,845:84,846:209,847:167,848:230,849:244,850:216,851:214,852:255,853:255,854:200,855:142,856:255,857:102,858:168,859:211,860:56,861:230,862:168,863:137,864:255,865:255,866:230,867:170,868:167,869:214,870:0,871:244,872:225,873:123,874:49,875:102,876:168,877:103,878:255,879:255,880:205,881:102,882:128,883:189,884:168,885:211,886:56,887:230,888:191,889:10,890:131,891:255,892:255,893:244,894:137,895:137,896:137,897:137,898:230,899:193,900:184,901:170,903:0,904:225,905:123,906:102,907:214,908:255,909:255,910:119,911:158,912:219,913:179,914:167,915:163,916:244,917:200,918:244,919:255,920:230,921:179,922:163,923:198,924:61,925:65,926:68,927:255,928:119,929:168,930:114,931:158,932:84,933:219,934:179,935:167,936:114,937:126,938:216,939:52,940:244,941:158,942:200,943:200,944:209,945:172,946:244,947:255,948:232,949:226,950:230,951:68,952:179,953:68,954:147,955:163,956:205,957:237,958:61,959:65,960:123,961:68,962:237,963:255,964:77,965:255,966:255,967:205,968:114,969:102,970:128,971:189,972:114,973:168,974:211,975:56,976:226,977:230,978:200,979:191,980:158,981:19,982:52,983:56,985:244,986:137,987:133,988:255,989:174,990:114,991:102,992:137,993:255,994:255,995:230,996:255,997:193,998:184,999:93,1000:0,1001:167,1002:225,1003:154,1004:123,1005:49,1006:255,1007:255,1008:77,1009:255,1010:205,1011:102,1012:128,1013:189,1014:114,1015:168,1016:211,1017:56,1018:226,1019:230,1020:200,1021:191,1022:158,1023:10,1024:52,1026:244,1027:216,1028:137,1029:133,1030:255,1031:174,1032:172,1033:114,1034:137,1035:255,1036:255,1037:230,1038:255,1039:193,1040:184,1041:167,1042:225,1043:123,1044:49,1045:255,1046:255,1047:77,1048:255,1049:14,1050:114,1051:14,1054:167,1055:226,1056:114,1057:226,1058:126,1059:191,1060:56,1062:244,1063:216,1064:52,1065:244,1066:174,1067:131,1068:255,1069:230,1070:193,1071:184,1072:93,1073:225,1074:154,1075:123,1076:49,1077:255,1078:255,1079:255,1080:205,1081:114,1082:14,1083:189,1084:114,1085:168,1086:211,1087:230,1088:191,1089:158,1090:56,1092:244,1093:216,1094:137,1095:52,1096:174,1097:172,1098:114,1099:255,1100:137,1101:131,1102:255,1103:230,1104:193,1105:184,1106:0,1107:225,1108:154,1109:123,1110:49,1111:255,1112:255,1113:255,1114:205,1115:0,1116:167,1117:160,1118:189,1119:114,1120:168,1121:211,1122:182,1123:230,1124:158,1125:10,1126:52,1128:244,1129:133,1130:255,1131:172,1132:114,1133:137,1134:207,1135:255,1136:135,1137:255,1138:255,1139:193,1140:184,1141:0,1142:225,1143:123,1144:255,1145:77,1146:255,1147:205,1148:102,1149:128,1150:189,1151:114,1152:168,1153:211,1154:56,1155:226,1156:182,1157:230,1158:191,1159:158,1160:19,1161:255,1162:244,1163:137,1164:255,1165:114,1166:137,1167:255,1168:135,1169:255,1170:230,1171:193,1172:184,1173:130,1174:93,1175:0,1176:167,1177:225,1178:123,1179:49,1180:255,1181:255,1182:205,1183:114,1184:0,1185:167,1186:160,1187:73,1188:189,1189:114,1190:168,1191:211,1192:56,1193:230,1194:232,1196:244,1197:216,1198:52,1199:175,1200:244,1201:255,1202:172,1203:114,1204:232,1205:137,1206:207,1207:255,1208:255,1209:193,1210:184,1211:167,1212:123,1213:84,1214:123,1215:49,1216:255,1217:77,1218:255,1219:255,1220:14,1221:114,1222:255,1223:128,1224:189,1225:114,1226:211,1227:56,1228:226,1229:230,1230:191,1231:56,1233:244,1234:137,1235:137,1236:235,1237:131,1238:255,1239:230,1240:193,1241:184,1243:225,1244:154,1245:123,1246:49,1247:77,1248:255,1249:255,1250:0,1251:102,1252:189,1253:168,1254:211,1255:56,1256:226,1257:230,1258:191,1259:10,1260:131,1261:168,1262:137,1263:137,1264:255,1265:255,1266:230,1267:170,1268:167,1269:214,1270:0,1271:244,1272:205,1273:225,1274:123,1275:49,1276:102,1277:214,1278:188,1279:255,1280:168,1281:255,1282:168,1283:255,1284:214,1285:244,1286:225,1287:102,1288:188,1289:255,1290:168,1291:156,1292:103,1293:244,1294:230,1295:168,1296:77,1297:135,1298:151,1299:75,1300:191,1301:214,1302:186,1303:255,1304:209,1305:149,1306:149,1307:168,1308:189,1309:68,1310:102,1311:170,1312:102,1313:255,1314:239,1315:255,1316:244,1317:128,1318:246,1319:228,1320:75,1321:214,1322:255,1323:255,1324:223,1325:161,1326:200,1327:149,1328:149,1329:168,1330:189,1331:0,1332:170,1333:91,1334:102,1335:212,1336:239,1337:255,1338:255,1339:205,1340:0,1341:167,1342:160,1343:189,1344:114,1345:168,1346:182,1347:230,1348:223,1349:244,1350:232,1352:52,1353:244,1354:175,1355:168,1356:244,1357:205,1358:116,1359:172,1360:114,1361:255,1362:232,1363:207,1364:135,1365:255,1366:144,1367:193,1368:228,1369:184,1370:167,1371:205,1372:225,1373:123,1374:123,1375:198,1376:165,1377:255,1378:167,1379:160,1380:168,1381:182,1382:223,1383:244,1384:228,1385:232,1386:137,1387:168,1388:255,1389:244,1390:116,1391:156,1392:207,1393:135,1394:255,1395:144,1396:167,1397:205,1398:123,1399:123,1400:255,1401:103,1402:198,1403:165,1404:100,1405:168,1406:182,1407:255,1408:244,1409:137,1410:168,1411:114,1412:156,1413:255,1414:230,1415:112,1416:137,1417:205,1418:123,1419:102,1420:195,1421:103,1422:255,1423:168,1424:156,1425:135,1426:112,1427:244,1428:205,1429:102,1430:255,1431:103,1432:82,1433:165,1434:100,1435:181,1436:219,1437:112,1438:100,1439:209,1440:255,1441:255,1442:255,1443:219,1444:68,1445:98,1446:102,1447:170,1448:102,1449:255,1450:38,1451:207,1452:230,1453:168,1454:77,1455:135,1456:191,1457:237,1458:186,1459:100,1460:142,1461:209,1462:255,1463:255,1464:68,1465:102,1466:170,1467:102,1468:255,1469:98,1470:255,1471:255,1472:255,1473:255,1474:167,1475:189,1476:114,1477:168,1478:147,1479:211,1480:182,1481:230,1482:158,1485:137,1486:168,1487:255,1488:114,1489:156,1490:255,1491:237,1492:135,1493:255,1494:144,1495:167,1496:137,1497:205,1498:225,1499:123,1500:102,1501:103,1502:198,1503:165,1504:181,1505:219,1506:112,1507:100,1508:107,1509:219,1510:68,1511:98,1512:102,1513:170,1514:102,1515:255,1517:61,1518:181,1519:232,1520:168,1521:112,1522:100,1523:221,1524:255,1525:226,1526:98,1527:102,1528:170,1529:102,1530:0,1531:202,1532:98,1561:75,1562:75,1563:175,1564:179,1565:0,1566:237,1568:147,1569:207,1570:230,1571:255,1572:153,1573:153,1574:226,1575:214,1576:232,1577:68,1578:181,1579:0,1580:121,1581:105,1582:207,1583:232,1584:121,1585:239,1586:0,1587:105,1588:75,1589:75,1590:175,1591:237,1592:219,1593:255,1596:147,1597:110,1598:255,1599:230,1600:255,1601:153,1602:153,1603:214,1604:184,1605:68,1606:0,1607:121,1608:105,1609:207,1610:232,1611:121,1612:239,1613:0,1614:75,1615:75,1616:38,1617:175,1618:179,1619:0,1620:255,1621:135,1622:255,1623:147,1624:110,1625:207,1626:230,1627:255,1628:153,1629:153,1630:235,1631:214,1632:232,1633:68,1634:181,1635:0,1636:121,1637:105,1638:207,1639:232,1640:121,1641:0,1642:219,1643:214,1644:244,1645:102,1646:255,1647:75,1648:237,1649:219,1650:147,1651:168,1652:230,1653:214,1654:184,1655:75,1656:105,1657:156,1658:103,1659:219,1660:214,1661:244,1662:102,1663:175,1664:179,1665:237,1666:219,1667:168,1668:230,1669:214,1670:184,1671:75,1672:156,1673:103,1674:255,1675:219,1676:191,1677:255,1678:137,1679:168,1680:255,1681:112,1682:214,1683:244,1684:205,1685:244,1686:102,1687:188,1688:168,1689:232,1690:75,1691:103,1692:168,1693:156,1694:112,1695:244,1696:102,1697:114,1698:137,1699:181,1700:0,1701:96,1702:195,1703:100,1704:209,1705:255,1706:255,1707:135,1708:0,1709:35,1710:102,1711:170,1712:165,1713:207,1714:102,1715:168,1716:255,1717:156,1718:112,1719:244,1720:205,1721:123,1722:102,1723:137,1724:193,1725:209,1726:214,1727:205,1728:255,1729:195,1730:255,1731:135,1732:0,1733:35,1734:103,1735:165,1736:207,1737:102,1738:255,1739:121,1740:181,1741:165,1742:219,1743:193,1744:100,1745:209,1746:214,1747:205,1748:255,1749:219,1750:131,1751:198,1752:135,1753:235,1754:255,1755:102,1756:102,1757:170,1758:170,1759:102,1760:244,1761:255,1762:103,1763:207,1764:221,1765:168,1766:232,1767:195,1768:168,1769:244,1770:151,1771:255,1772:191,1773:211,1774:223,1775:255,1776:77,1777:189,1778:68,1779:35,1780:102,1781:170,1782:102,1783:195,1784:168,1785:244,1786:151,1787:75,1788:191,1789:223,1790:214,1791:131,1792:149,1793:77,1794:168,1795:189,1796:68,1797:102,1798:170,1799:102,1800:255,1801:239,1802:255,1803:170,1804:181,1805:98,1806:137,1807:237,1808:142,1809:117,1810:255,1811:211,1812:0,1813:35,1814:163,1815:181,1816:98,1817:186,1818:137,1819:179,1820:70,1821:207,1822:117,1823:255,1824:211,1825:221,1826:239,1827:0,1828:35,1829:98,1830:244,1831:168,1832:77,1833:151,1834:142,1835:117,1836:255,1837:211,1838:0,1839:35,1840:214,1841:98,1842:161,1843:230,1844:168,1845:135,1846:117,1847:255,1848:255,1849:237,1850:211,1851:0,1852:214,1853:228,1854:255,1855:237,1856:255,1857:100,1858:142,1859:255,1860:68,1861:0,1862:35,1863:102,1864:170,1865:207,1866:102,1867:255,1868:170,1869:98,1870:214,1871:181,1872:98,1873:186,1874:137,1875:179,1876:70,1877:156,1878:144,1879:117,1880:255,1881:211,1882:0,1883:214,1884:221,1885:255,1886:255,1887:0,1888:35,1889:207,1890:75,1891:214,1892:70,1893:255,1894:207,1895:0,1896:214,1897:130,1898:255,1899:255,1900:0,1901:35,1902:121,1903:105,1904:207,1905:232,1906:121,1907:0,1908:211,1909:214,1910:175,1911:0,1912:186,1913:70,1914:214,1915:0,1916:35,1917:207,1918:239,1919:211,1920:75,1921:214,1922:161,1923:255,1924:255,1925:207,1926:0,1927:214,1928:130,1929:144,1930:255,1931:237,1932:100,1933:0,1934:35,1935:121,1936:105,1937:207,1938:102,1939:255,1940:0,1941:211,1942:232,1943:75,1944:214,1945:255,1946:255,1947:207,1948:0,1949:214,1950:130,1951:144,1952:255,1953:149,1954:255,1955:226,1956:0,1957:35,1958:121,1959:105,1960:207,1961:102,1962:0,1963:211,1964:232,1965:175,1966:179,1967:0,1968:230,1969:255,1970:235,1971:214,1972:232,1973:0,1974:207,1975:121,1976:239,1977:211,1978:75,1979:161,1980:255,1981:255,1982:255,1983:207,1984:0,1985:214,1986:130,1987:144,1988:255,1989:200,1990:149,1991:100,1992:35,1993:121,1994:105,1995:207,1996:102,1997:255,1998:0,1999:232,2000:184,2001:163,2002:181,2003:186,2004:137,2005:70,2006:117,2007:255,2008:228,2009:214,2010:221,2011:255,2012:0,2013:35,2014:207,2015:114,2016:184,2017:175,2018:179,2019:0,2020:237,2021:70,2022:156,2023:96,2024:230,2025:255,2026:255,2027:235,2028:214,2029:232,2030:186,2031:181,2032:75,2033:0,2034:35,2035:105,2036:211,2037:114,2038:137,2039:175,2040:179,2041:237,2042:0,2043:255,2044:255,2045:214,2046:232,2047:135,2048:75,2049:0,2050:147,2051:211,2052:219,2053:168,2054:112,2055:244,2056:205,2057:244,2058:102,2059:137,2060:175,2061:237,2062:232,2063:135,2064:75,2065:147,2066:103,2067:184,2068:216,2069:221,2070:175,2071:0,2072:70,2073:168,2074:156,2075:232,2076:255,2077:191,2078:228,2079:255,2080:198,2081:232,2082:251,2083:186,2084:0,2085:35,2086:102,2087:170,2088:207,2089:102,2090:0,2091:211,2092:184,2093:216,2094:221,2095:181,2096:186,2097:137,2098:179,2099:70,2100:168,2101:244,2102:151,2103:142,2104:255,2105:211,2106:221,2107:242,2108:255,2109:242,2110:242,2111:251,2112:186,2113:0,2114:35,2115:170,2116:207,2117:175,2118:179,2119:237,2120:168,2121:230,2122:255,2123:214,2124:184,2125:232,2126:75,2127:0,2128:207,2129:147,2130:239,2131:105,2132:114,2133:137,2134:175,2135:179,2136:0,2137:237,2138:181,2139:0,2140:96,2141:195,2142:100,2143:209,2144:230,2145:255,2146:255,2147:204,2148:232,2149:135,2150:255,2151:98,2152:0,2153:47,2154:35,2155:102,2156:170,2157:102,2158:239,2159:38,2160:68,2700:255,2701:255,2702:255,2703:255,2704:255,2705:255,2706:255,2707:255,2708:255,2709:255,2710:255,2711:255,2712:255,2713:255,2714:255,2715:255,2716:255,2717:255,2718:244,2719:163,2720:163,2721:163,2722:163,2723:255,2724:255,2725:255,2726:255</LUT>
    </ComplexSource>
  </VRTRasterBand>
  <VRTRasterBand dataType="Byte" band="2">
    <ColorInterp>Green</ColorInterp>
    <ComplexSource>
      <SourceFilename relativeToVRT="1">merged.vrt</SourceFilename>
      <SourceBand>1</SourceBand>
      <SourceProperties RasterXSize="168744" RasterYSize="92374" DataType="Int16" BlockXSize="128" BlockYSize="128"/>
      <SrcRect xOff="0" yOff="0" xSize="168744" ySize="92374"/>
      <DstRect xOff="0" yOff="0" xSize="168744" ySize="92374"/>
