<VRTDataset rasterXSize="183166" rasterYSize="108187">
  <SRS>PROJCS[&quot;WGS 84 / Pseudo-Mercator&quot;,GEOGCS[&quot;WGS 84&quot;,DATUM[&quot;WGS_1984&quot;,SPHEROID[&quot;WGS 84&quot;,6378137,298.257223563,AUTHORITY[&quot;EPSG&quot;,&quot;7030&quot;]],AUTHORITY[&quot;EPSG&quot;,&quot;6326&quot;]],PRIMEM[&quot;Greenwich&quot;,0,AUTHORITY[&quot;EPSG&quot;,&quot;8901&quot;]],UNIT[&quot;degree&quot;,0.0174532925199433,AUTHORITY[&quot;EPSG&quot;,&quot;9122&quot;]],AUTHORITY[&quot;EPSG&quot;,&quot;4326&quot;]],PROJECTION[&quot;Mercator_1SP&quot;],PARAMETER[&quot;central_meridian&quot;,0],PARAMETER[&quot;scale_factor&quot;,1],PARAMETER[&quot;false_easting&quot;,0],PARAMETER[&quot;false_northing&quot;,0],UNIT[&quot;metre&quot;,1,AUTHORITY[&quot;EPSG&quot;,&quot;9001&quot;]],AXIS[&quot;Easting&quot;,EAST],AXIS[&quot;Northing&quot;,NORTH],EXTENSION[&quot;PROJ4&quot;,&quot;+proj=merc +a=6378137 +b=6378137 +lat_ts=0 +lon_0=0 +x_0=0 +y_0=0 +k=1 +units=m +nadgrids=@null +wktext +no_defs&quot;],AUTHORITY[&quot;EPSG&quot;,&quot;3857&quot;]]</SRS>
  <GeoTransform> -14236366.61466772, 38.00964586157284, 0, 6728989.271149526, 0, -38.00964586157284</GeoTransform>
  <VRTRasterBand dataType="Byte" band="1">
    <ColorInterp>Red</ColorInterp>
    <ComplexSource>
      <SourceFilename relativeToVRT="1">vrt_webmercator.vrt</SourceFilename>
      <SourceBand>1</SourceBand>
      <SourceProperties RasterXSize="183166" RasterYSize="108187" DataType="Byte" BlockXSize="512" BlockYSize="128"/>
      <SrcRect xOff="0" yOff="0" xSize="183166" ySize="108187"/>
      <DstRect xOff="0" yOff="0" xSize="183166" ySize="108187"/>
      <LUT>1:86,254.999999999999943:86,255:0,255:0</LUT>
    </ComplexSource>
  </VRTRasterBand>
  <VRTRasterBand dataType="Byte" band="2">
    <ColorInterp>Green</ColorInterp>
    <ComplexSource>
      <SourceFilename relativeToVRT="1">vrt_webmercator.vrt</SourceFilename>
      <SourceBand>1</SourceBand>
      <SourceProperties RasterXSize="183166" RasterYSize="108187" DataType="Byte" BlockXSize="512" BlockYSize="128"/>
      <SrcRect xOff="0" yOff="0" xSize="183166" ySize="108187"/>
      <DstRect xOff="0" yOff="0" xSize="183166" ySize="108187"/>
      <LUT>1:180,254.999999999999943:180,255:0,255:0</LUT>
    </ComplexSource>
  </VRTRasterBand>
  <VRTRasterBand dataType="Byte" band="3">
    <ColorInterp>Blue</ColorInterp>
    <ComplexSource>
      <SourceFilename relativeToVRT="1">vrt_webmercator.vrt</SourceFilename>
      <SourceBand>1</SourceBand>
      <SourceProperties RasterXSize="183166" RasterYSize="108187" DataType="Byte" BlockXSize="512" BlockYSize="128"/>
      <SrcRect xOff="0" yOff="0" xSize="183166" ySize="108187"/>
      <DstRect xOff="0" yOff="0" xSize="183166" ySize="108187"/>
      <LUT>1:233,254.999999999999943:233,255:0,255:0</LUT>
    </ComplexSource>
  </VRTRasterBand>
  <VRTRasterBand dataType="Byte" band="4">
    <ColorInterp>Alpha</ColorInterp>
    <ComplexSource>
      <SourceFilename relativeToVRT="1">vrt_webmercator.vrt</SourceFilename>
      <SourceBand>1</SourceBand>
      <SourceProperties RasterXSize="183166" RasterYSize="108187" DataType="Byte" BlockXSize="512" BlockYSize="128"/>
      <SrcRect xOff="0" yOff="0" xSize="183166" ySize="108187"/>
      <DstRect xOff="0" yOff="0" xSize="183166" ySize="108187"/>
      <LUT>1:255,254.999999999999943:255,255:0,255:0</LUT>
    </ComplexSource>
  </VRTRasterBand>
</VRTDataset>
