<VRTDataset rasterXSize="170407" rasterYSize="94227">
  <SRS>PROJCS[&quot;WGS 84 / Pseudo-Mercator&quot;,GEOGCS[&quot;WGS 84&quot;,DATUM[&quot;WGS_1984&quot;,SPHEROID[&quot;WGS 84&quot;,6378137,298.257223563,AUTHORITY[&quot;EPSG&quot;,&quot;7030&quot;]],AUTHORITY[&quot;EPSG&quot;,&quot;6326&quot;]],PRIMEM[&quot;Greenwich&quot;,0,AUTHORITY[&quot;EPSG&quot;,&quot;8901&quot;]],UNIT[&quot;degree&quot;,0.0174532925199433,AUTHORITY[&quot;EPSG&quot;,&quot;9122&quot;]],AUTHORITY[&quot;EPSG&quot;,&quot;4326&quot;]],PROJECTION[&quot;Mercator_1SP&quot;],PARAMETER[&quot;central_meridian&quot;,0],PARAMETER[&quot;scale_factor&quot;,1],PARAMETER[&quot;false_easting&quot;,0],PARAMETER[&quot;false_northing&quot;,0],UNIT[&quot;metre&quot;,1,AUTHORITY[&quot;EPSG&quot;,&quot;9001&quot;]],AXIS[&quot;Easting&quot;,EAST],AXIS[&quot;Northing&quot;,NORTH],EXTENSION[&quot;PROJ4&quot;,&quot;+proj=merc +a=6378137 +b=6378137 +lat_ts=0 +lon_0=0 +x_0=0 +y_0=0 +k=1 +units=m +nadgrids=@null +wktext +no_defs&quot;],AUTHORITY[&quot;EPSG&quot;,&quot;3857&quot;]]</SRS>
  <GeoTransform> -14027682.29864602, 39.19944194493548, 0, 6479464.273936853, 0, -39.19944194493549</GeoTransform>
  <VRTRasterBand dataType="Byte" band="1">
    <ColorInterp>Red</ColorInterp>
    <ComplexSource>
      <SourceFilename relativeToVRT="1">merged.vrt</SourceFilename>
      <SourceBand>1</SourceBand>
      <SourceProperties RasterXSize="170407" RasterYSize="94227" DataType="Float32" BlockXSize="128" BlockYSize="128"/>
      <SrcRect xOff="0" yOff="0" xSize="170407" ySize="94227"/>
      <DstRect xOff="0" yOff="0" xSize="170407" ySize="94227"/>
      <LUT>nan:0,0:3,1:6,2:8,3:12,4:16,5:20,6:23,7:27,8:31,9:34,10:38,11:42,12:46,13:49,14:53,15:56,16:61,17:65,18:69,19:72,20:76,21:81,22:84,23:89,24:92,25:97,26:100,27:105,28:109,29:113,30:117,31:122,32:126,33:130,34:135,35:139,36:144,37:148,38:152,39:157,40:161,41:165,42:170,43:174,44:178,45:182,46:187,47:191,48:195,49:199,50:203,51:206,52:210,53:213,54:216,55:219,56:222,57:224,58:227,59:229,60:232,61:234,62:235,63:237,64:238,65:239,66:240,67:241,68:241,69:242,70:242,71:243,72:244,73:244,74:244,75:244,76:245,77:245,78:245,79:245,80:246,81:246,82:246,83:246,84:246,85:246,86:246,87:246,88:246,89:246,90:247,91:247,92:247,93:247,94:248,95:248,96:248,97:249,98:249,99:250,100:250</LUT>
    </ComplexSource>
  </VRTRasterBand>
  <VRTRasterBand dataType="Byte" band="2">
    <ColorInterp>Green</ColorInterp>
    <ComplexSource>
      <SourceFilename relativeToVRT="1">merged.vrt</SourceFilename>
      <SourceBand>1</SourceBand>
      <SourceProperties RasterXSize="170407" RasterYSize="94227" DataType="Float32" BlockXSize="128" BlockYSize="128"/>
      <SrcRect xOff="0" yOff="0" xSize="170407" ySize="94227"/>
      <DstRect xOff="0" yOff="0" xSize="170407" ySize="94227"/>
      <LUT>nan:0,0:5,1:7,2:8,3:10,4:11,5:14,6:15,7:17,8:18,9:19,10:20,11:22,12:23,13:24,14:25,15:26,16:26,17:27,18:28,19:28,20:29,21:30,22:30,23:30,24:30,25:31,26:31,27:31,28:31,29:31,30:31,31:31,32:30,33:30,34:30,35:29,36:29,37:28,38:27,39:27,40:26,41:25,42:24,43:23,44:23,45:22,46:22,47:22,48:23,49:25,50:27,51:29,52:32,53:34,54:38,55:41,56:46,57:50,58:54,59:58,60:63,61:67,62:72,63:77,64:82,65:88,66:93,67:98,68:102,69:107,70:112,71:116,72:121,73:125,74:131,75:135,76:139,77:143,78:148,79:152,80:156,81:161,82:164,83:169,84:173,85:177,86:180,87:185,88:189,89:193,90:197,91:201,92:205,93:208,94:212,95:215,96:220,97:223,98:227,99:231,100:235</LUT>
    </ComplexSource>
  </VRTRasterBand>
  <VRTRasterBand dataType="Byte" band="3">
    <ColorInterp>Blue</ColorInterp>
    <ComplexSource>
      <SourceFilename relativeToVRT="1">merged.vrt</SourceFilename>
      <SourceBand>1</SourceBand>
      <SourceProperties RasterXSize="170407" RasterYSize="94227" DataType="Float32" BlockXSize="128" BlockYSize="128"/>
      <SrcRect xOff="0" yOff="0" xSize="170407" ySize="94227"/>
      <DstRect xOff="0" yOff="0" xSize="170407" ySize="94227"/>
      <LUT>nan:0,0:26,1:28,2:30,3:33,4:35,5:38,6:40,7:43,8:45,9:49,10:51,11:54,12:57,13:59,14:62,15:64,16:66,17:68,18:71,19:72,20:75,21:77,22:78,23:80,24:81,25:83,26:84,27:85,28:86,29:87,30:88,31:89,32:90,33:90,34:91,35:91,36:91,37:91,38:91,39:91,40:91,41:90,42:90,43:89,44:88,45:87,46:86,47:84,48:83,49:81,50:79,51:78,52:76,53:74,54:72,55:70,56:68,57:67,58:65,59:64,60:63,61:62,62:62,63:62,64:63,65:64,66:66,67:68,68:70,69:73,70:77,71:80,72:83,73:87,74:91,75:94,76:99,77:102,78:107,79:111,80:115,81:120,82:124,83:129,84:133,85:139,86:144,87:149,88:154,89:159,90:165,91:170,92:176,93:181,94:187,95:193,96:199,97:204,98:210,99:215,100:221</LUT>
    </ComplexSource>
  </VRTRasterBand>
  <VRTRasterBand dataType="Byte" band="4">
    <ColorInterp>Alpha</ColorInterp>
    <ComplexSource>
      <SourceFilename relativeToVRT="1">merged.vrt</SourceFilename>
      <SourceBand>1</SourceBand>
      <SourceProperties RasterXSize="170407" RasterYSize="94227" DataType="Float32" BlockXSize="128" BlockYSize="128"/>
      <SrcRect xOff="0" yOff="0" xSize="170407" ySize="94227"/>
      <DstRect xOff="0" yOff="0" xSize="170407" ySize="94227"/>
      <LUT>nan:0,0:255,1:255,2:255,3:255,4:255,5:255,6:255,7:255,8:255,9:255,10:255,11:255,12:255,13:255,14:255,15:255,16:255,17:255,18:255,19:255,20:255,21:255,22:255,23:255,24:255,25:255,26:255,27:255,28:255,29:255,30:255,31:255,32:255,33:255,34:255,35:255,36:255,37:255,38:255,39:255,40:255,41:255,42:255,43:255,44:255,45:255,46:255,47:255,48:255,49:255,50:255,51:255,52:255,53:255,54:255,55:255,56:255,57:255,58:255,59:255,60:255,61:255,62:255,63:255,64:255,65:255,66:255,67:255,68:255,69:255,70:255,71:255,72:255,73:255,74:255,75:255,76:255,77:255,78:255,79:255,80:255,81:255,82:255,83:255,84:255,85:255,86:255,87:255,88:255,89:255,90:255,91:255,92:255,93:255,94:255,95:255,96:255,97:255,98:255,99:255,100:255</LUT>
    </ComplexSource>
  </VRTRasterBand>
</VRTDataset>
