<?xml version="1.0" encoding="utf-8"?>
    <TileMap version="1.0.0" tilemapservice="http://tms.osgeo.org/1.0.0">
      <Title>vrt_color.vrt</Title>
      <Abstract></Abstract>
      <SRS>EPSG:3857</SRS>
      <BoundingBox minx="-126.01281409646582" miny="24.26570049684207" maxx="-66.00661701535009" maxy="50.19125682609515"/>
      <Origin x="-126.01281409646582" y="24.26570049684207"/>
      <TileFormat width="256" height="256" mime-type="image/webp" extension="webp"/>
      <TileSets profile="mercator">
        <TileSet href="10" units-per-pixel="152.87405654296876" order="10"/>
        <TileSet href="11" units-per-pixel="76.43702827148438" order="11"/>
        <TileSet href="12" units-per-pixel="38.21851413574219" order="12"/>
      </TileSets>
    </TileMap>
    