<?xml version="1.0" encoding="utf-8"?>
    <TileMap version="1.0.0" tilemapservice="http://tms.osgeo.org/1.0.0">
      <Title>vrt_color.vrt</Title>
      <Abstract></Abstract>
      <SRS>EPSG:3857</SRS>
      <BoundingBox minx="-97.46262519478113" miny="29.45576701237114" maxx="-67.68832442875323" maxy="48.34356810578971"/>
      <Origin x="-97.46262519478113" y="29.45576701237114"/>
      <TileFormat width="256" height="256" mime-type="image/webp" extension="webp"/>
      <TileSets profile="mercator">
        <TileSet href="10" units-per-pixel="152.87405654296876" order="10"/>
        <TileSet href="11" units-per-pixel="76.43702827148438" order="11"/>
        <TileSet href="12" units-per-pixel="38.21851413574219" order="12"/>
      </TileSets>
    </TileMap>
    