<?xml version="1.0" encoding="utf-8"?>
    <TileMap version="1.0.0" tilemapservice="http://tms.osgeo.org/1.0.0">
      <Title>vrt_color.vrt</Title>
      <Abstract></Abstract>
      <SRS>EPSG:3857</SRS>
      <BoundingBox minx="-96.65961641459712" miny="32.17339319208713" maxx="-67.75281871844346" maxy="46.19655078165480"/>
      <Origin x="-96.65961641459712" y="32.17339319208713"/>
      <TileFormat width="256" height="256" mime-type="image/webp" extension="webp"/>
      <TileSets profile="mercator">
        <TileSet href="10" units-per-pixel="152.87405654296876" order="10"/>
        <TileSet href="11" units-per-pixel="76.43702827148438" order="11"/>
        <TileSet href="12" units-per-pixel="38.21851413574219" order="12"/>
      </TileSets>
    </TileMap>
    