<VRTDataset rasterXSize="213930" rasterYSize="117103">
  <SRS>PROJCS[&quot;WGS 84 / Pseudo-Mercator&quot;,GEOGCS[&quot;WGS 84&quot;,DATUM[&quot;WGS_1984&quot;,SPHEROID[&quot;WGS 84&quot;,6378137,298.257223563,AUTHORITY[&quot;EPSG&quot;,&quot;7030&quot;]],AUTHORITY[&quot;EPSG&quot;,&quot;6326&quot;]],PRIMEM[&quot;Greenwich&quot;,0,AUTHORITY[&quot;EPSG&quot;,&quot;8901&quot;]],UNIT[&quot;degree&quot;,0.0174532925199433,AUTHORITY[&quot;EPSG&quot;,&quot;9122&quot;]],AUTHORITY[&quot;EPSG&quot;,&quot;4326&quot;]],PROJECTION[&quot;Mercator_1SP&quot;],PARAMETER[&quot;central_meridian&quot;,0],PARAMETER[&quot;scale_factor&quot;,1],PARAMETER[&quot;false_easting&quot;,0],PARAMETER[&quot;false_northing&quot;,0],UNIT[&quot;metre&quot;,1,AUTHORITY[&quot;EPSG&quot;,&quot;9001&quot;]],AXIS[&quot;Easting&quot;,EAST],AXIS[&quot;Northing&quot;,NORTH],EXTENSION[&quot;PROJ4&quot;,&quot;+proj=merc +a=6378137 +b=6378137 +lat_ts=0 +lon_0=0 +x_0=0 +y_0=0 +k=1 +units=m +nadgrids=@null +wktext +no_defs&quot;],AUTHORITY[&quot;EPSG&quot;,&quot;3857&quot;]]</SRS>
  <GeoTransform> -13880151.83734245, 30, 0, 6335180.349500282, 0, -30</GeoTransform>
  <VRTRasterBand dataType="Byte" band="1">
    <ColorInterp>Red</ColorInterp>
    <ComplexSource>
      <SourceFilename relativeToVRT="1">merged.vrt</SourceFilename>
      <SourceBand>1</SourceBand>
      <SourceProperties RasterXSize="213930" RasterYSize="117103" DataType="Byte" BlockXSize="128" BlockYSize="128"/>
      <SrcRect xOff="0" yOff="0" xSize="213930" ySize="117103"/>
      <DstRect xOff="0" yOff="0" xSize="213930" ySize="117103"/>
      <LUT>0:115,1:118,2:121,3:123,4:126,5:129,6:131,7:134,8:137,9:139,10:142,11:145,12:147,13:150,14:153,15:155,16:158,17:161,18:164,19:166,20:170,21:172,22:174,23:178,24:180,25:183,26:186,27:189,28:191,29:194,30:197,31:200,32:202,33:205,34:208,35:210,36:213,37:215,38:218,39:220,40:223,41:225,42:227,43:229,44:232,45:233,46:235,47:236,48:238,49:240,50:242,51:242,52:244,53:245,54:246,55:247,56:248,57:248,58:249,59:250,60:250,61:251,62:251,63:252,64:252,65:252,66:253,67:253,68:253,69:254,70:254,71:254,72:254,73:254,74:254,75:254,76:254,77:254,78:254,79:254,80:254,81:254,82:254,83:254,84:254,85:254,86:254,87:254,88:254,89:253,90:253,91:253,92:253,93:253,94:253,95:252,96:252,97:252,98:252,99:252,100:252,253:0,254.999999999999943:0,255:0,255:0</LUT>
    </ComplexSource>
  </VRTRasterBand>
  <VRTRasterBand dataType="Byte" band="2">
    <ColorInterp>Green</ColorInterp>
    <ComplexSource>
      <SourceFilename relativeToVRT="1">merged.vrt</SourceFilename>
      <SourceBand>1</SourceBand>
      <SourceProperties RasterXSize="213930" RasterYSize="117103" DataType="Byte" BlockXSize="128" BlockYSize="128"/>
      <SrcRect xOff="0" yOff="0" xSize="213930" ySize="117103"/>
      <DstRect xOff="0" yOff="0" xSize="213930" ySize="117103"/>
      <LUT>0:32,1:33,2:34,3:35,4:36,5:37,6:38,7:39,8:40,9:41,10:42,11:43,12:43,13:44,14:45,15:46,16:47,17:48,18:49,19:49,20:51,21:52,22:52,23:53,24:54,25:55,26:56,27:57,28:58,29:59,30:60,31:62,32:62,33:64,34:64,35:66,36:68,37:69,38:70,39:72,40:74,41:76,42:78,43:80,44:83,45:84,46:87,47:89,48:91,49:95,50:97,51:100,52:103,53:106,54:109,55:112,56:115,57:119,58:121,59:125,60:128,61:131,62:135,63:138,64:140,65:144,66:147,67:151,68:154,69:156,70:160,71:163,72:166,73:169,74:172,75:176,76:179,77:182,78:185,79:188,80:191,81:194,82:197,83:201,84:204,85:206,86:210,87:213,88:216,89:219,90:222,91:226,92:228,93:231,94:235,95:237,96:240,97:244,98:247,99:250,100:253,253:0,254.999999999999943:0,255:0,255:0</LUT>
    </ComplexSource>
  </VRTRasterBand>
  <VRTRasterBand dataType="Byte" band="3">
    <ColorInterp>Blue</ColorInterp>
    <ComplexSource>
      <SourceFilename relativeToVRT="1">merged.vrt</SourceFilename>
      <SourceBand>1</SourceBand>
      <SourceProperties RasterXSize="213930" RasterYSize="117103" DataType="Byte" BlockXSize="128" BlockYSize="128"/>
      <SrcRect xOff="0" yOff="0" xSize="213930" ySize="117103"/>
      <DstRect xOff="0" yOff="0" xSize="213930" ySize="117103"/>
      <LUT>0:129,1:129,2:130,3:130,4:130,5:129,6:129,7:129,8:129,9:129,10:129,11:129,12:128,13:128,14:128,15:127,16:127,17:126,18:126,19:125,20:125,21:124,22:123,23:123,24:122,25:121,26:120,27:119,28:119,29:117,30:116,31:115,32:114,33:113,34:111,35:111,36:109,37:108,38:107,39:105,40:104,41:103,42:101,43:100,44:98,45:98,46:96,47:96,48:94,49:94,50:93,51:92,52:92,53:92,54:92,55:92,56:92,57:92,58:93,59:94,60:94,61:95,62:97,63:97,64:99,65:101,66:103,67:104,68:106,69:108,70:109,71:111,72:114,73:115,74:118,75:120,76:123,77:124,78:127,79:130,80:132,81:135,82:137,83:140,84:143,85:145,86:148,87:151,88:154,89:157,90:160,91:163,92:166,93:169,94:172,95:175,96:178,97:182,98:185,99:188,100:191,253:0,254.999999999999943:0,255:0,255:0</LUT>
    </ComplexSource>
  </VRTRasterBand>
  <VRTRasterBand dataType="Byte" band="4">
    <ColorInterp>Alpha</ColorInterp>
    <ComplexSource>
      <SourceFilename relativeToVRT="1">merged.vrt</SourceFilename>
      <SourceBand>1</SourceBand>
      <SourceProperties RasterXSize="213930" RasterYSize="117103" DataType="Byte" BlockXSize="128" BlockYSize="128"/>
      <SrcRect xOff="0" yOff="0" xSize="213930" ySize="117103"/>
      <DstRect xOff="0" yOff="0" xSize="213930" ySize="117103"/>
      <LUT>0:255,1:255,2:255,3:255,4:255,5:255,6:255,7:255,8:255,9:255,10:255,11:255,12:255,13:255,14:255,15:255,16:255,17:255,18:255,19:255,20:255,21:255,22:255,23:255,24:255,25:255,26:255,27:255,28:255,29:255,30:255,31:255,32:255,33:255,34:255,35:255,36:255,37:255,38:255,39:255,40:255,41:255,42:255,43:255,44:255,45:255,46:255,47:255,48:255,49:255,50:255,51:255,52:255,53:255,54:255,55:255,56:255,57:255,58:255,59:255,60:255,61:255,62:255,63:255,64:255,65:255,66:255,67:255,68:255,69:255,70:255,71:255,72:255,73:255,74:255,75:255,76:255,77:255,78:255,79:255,80:255,81:255,82:255,83:255,84:255,85:255,86:255,87:255,88:255,89:255,90:255,91:255,92:255,93:255,94:255,95:255,96:255,97:255,98:255,99:255,100:255,253:255,254.999999999999943:255,255:0,255:0</LUT>
    </ComplexSource>
  </VRTRasterBand>
</VRTDataset>
