<VRTDataset rasterXSize="118970" rasterYSize="91013">
  <SRS>PROJCS[&quot;WGS 84 / Pseudo-Mercator&quot;,GEOGCS[&quot;WGS 84&quot;,DATUM[&quot;WGS_1984&quot;,SPHEROID[&quot;WGS 84&quot;,6378137,298.257223563,AUTHORITY[&quot;EPSG&quot;,&quot;7030&quot;]],AUTHORITY[&quot;EPSG&quot;,&quot;6326&quot;]],PRIMEM[&quot;Greenwich&quot;,0,AUTHORITY[&quot;EPSG&quot;,&quot;8901&quot;]],UNIT[&quot;degree&quot;,0.0174532925199433,AUTHORITY[&quot;EPSG&quot;,&quot;9122&quot;]],AUTHORITY[&quot;EPSG&quot;,&quot;4326&quot;]],PROJECTION[&quot;Mercator_1SP&quot;],PARAMETER[&quot;central_meridian&quot;,0],PARAMETER[&quot;scale_factor&quot;,1],PARAMETER[&quot;false_easting&quot;,0],PARAMETER[&quot;false_northing&quot;,0],UNIT[&quot;metre&quot;,1,AUTHORITY[&quot;EPSG&quot;,&quot;9001&quot;]],AXIS[&quot;Easting&quot;,EAST],AXIS[&quot;Northing&quot;,NORTH],EXTENSION[&quot;PROJ4&quot;,&quot;+proj=merc +a=6378137 +b=6378137 +lat_ts=0 +lon_0=0 +x_0=0 +y_0=0 +k=1 +units=m +nadgrids=@null +wktext +no_defs&quot;],AUTHORITY[&quot;EPSG&quot;,&quot;3857&quot;]]</SRS>
  <GeoTransform> -11028262.09755372, 30, 0, 6252262.093840378, 0, -30.00000000000001</GeoTransform>
  <VRTRasterBand dataType="Byte" band="1">
    <ColorInterp>Red</ColorInterp>
    <ComplexSource>
      <SourceFilename relativeToVRT="1">merged.vrt</SourceFilename>
      <SourceBand>1</SourceBand>
      <SourceProperties RasterXSize="118970" RasterYSize="91013" DataType="Byte" BlockXSize="128" BlockYSize="128"/>
      <SrcRect xOff="0" yOff="0" xSize="118970" ySize="91013"/>
      <DstRect xOff="0" yOff="0" xSize="118970" ySize="91013"/>
      <LUT>0:112,1:112,2:112,3:112,4:112,5:112,6:112,7:112,8:112,9:112,10:112,11:112,12:112,13:112,14:112,15:112,16:112,17:112,18:112,19:112,20:112,21:112,22:112,23:112,24:112,25:112,26:112,27:112,28:112,29:112,30:112,31:112,32:112,33:112,34:112,35:112,36:112,37:112,38:112,39:112,40:112,41:112,42:112,43:112,44:112,45:112,46:112,47:112,48:112,49:112,50:112,51:118,52:123,53:128,54:134,55:139,56:145,57:150,58:156,59:161,60:167,61:173,62:178,63:184,64:189,65:195,66:200,67:205,68:211,69:216,70:221,71:226,72:230,73:234,74:237,75:241,76:243,77:246,78:247,79:249,80:250,81:251,82:252,83:253,84:253,85:254,86:254,87:254,88:254,89:254,90:254,91:254,92:254,93:254,94:254,95:253,96:253,97:253,98:252,99:252,100:252,253:0,254.999999999999972:0,255:0,255:0</LUT>
    </ComplexSource>
  </VRTRasterBand>
  <VRTRasterBand dataType="Byte" band="2">
    <ColorInterp>Green</ColorInterp>
    <ComplexSource>
      <SourceFilename relativeToVRT="1">merged.vrt</SourceFilename>
      <SourceBand>1</SourceBand>
      <SourceProperties RasterXSize="118970" RasterYSize="91013" DataType="Byte" BlockXSize="128" BlockYSize="128"/>
      <SrcRect xOff="0" yOff="0" xSize="118970" ySize="91013"/>
      <DstRect xOff="0" yOff="0" xSize="118970" ySize="91013"/>
      <LUT>0:31,1:31,2:31,3:31,4:31,5:31,6:31,7:31,8:31,9:31,10:31,11:31,12:31,13:31,14:31,15:31,16:31,17:31,18:31,19:31,20:31,21:31,22:31,23:31,24:31,25:31,26:31,27:31,28:31,29:31,30:31,31:31,32:31,33:31,34:31,35:31,36:31,37:31,38:31,39:31,40:31,41:31,42:31,43:31,44:31,45:31,46:31,47:31,48:31,49:31,50:31,51:33,52:35,53:37,54:39,55:41,56:43,57:44,58:46,59:48,60:49,61:52,62:53,63:55,64:57,65:60,66:62,67:64,68:67,69:69,70:73,71:77,72:81,73:86,74:90,75:96,76:101,77:107,78:114,79:120,80:126,81:133,82:139,83:146,84:153,85:159,86:165,87:171,88:178,89:184,90:191,91:197,92:203,93:209,94:215,95:222,96:228,97:235,98:240,99:247,100:253,253:0,254.999999999999972:0,255:0,255:0</LUT>
    </ComplexSource>
  </VRTRasterBand>
  <VRTRasterBand dataType="Byte" band="3">
    <ColorInterp>Blue</ColorInterp>
    <ComplexSource>
      <SourceFilename relativeToVRT="1">merged.vrt</SourceFilename>
      <SourceBand>1</SourceBand>
      <SourceProperties RasterXSize="118970" RasterYSize="91013" DataType="Byte" BlockXSize="128" BlockYSize="128"/>
      <SrcRect xOff="0" yOff="0" xSize="118970" ySize="91013"/>
      <DstRect xOff="0" yOff="0" xSize="118970" ySize="91013"/>
      <LUT>0:129,1:129,2:129,3:129,4:129,5:129,6:129,7:129,8:129,9:129,10:129,11:129,12:129,13:129,14:129,15:129,16:129,17:129,18:129,19:129,20:129,21:129,22:129,23:129,24:129,25:129,26:129,27:129,28:129,29:129,30:129,31:129,32:129,33:129,34:129,35:129,36:129,37:129,38:129,39:129,40:129,41:129,42:129,43:129,44:129,45:129,46:129,47:129,48:129,49:129,50:129,51:129,52:130,53:130,54:129,55:129,56:129,57:128,58:127,59:126,60:125,61:124,62:123,63:121,64:119,65:117,66:115,67:113,68:110,69:108,70:104,71:102,72:100,73:97,74:95,75:93,76:92,77:92,78:92,79:93,80:94,81:96,82:99,83:102,84:105,85:109,86:113,87:117,88:122,89:126,90:132,91:136,92:142,93:148,94:153,95:160,96:166,97:171,98:178,99:185,100:191,253:0,254.999999999999972:0,255:0,255:0</LUT>
    </ComplexSource>
  </VRTRasterBand>
  <VRTRasterBand dataType="Byte" band="4">
    <ColorInterp>Alpha</ColorInterp>
    <ComplexSource>
      <SourceFilename relativeToVRT="1">merged.vrt</SourceFilename>
      <SourceBand>1</SourceBand>
      <SourceProperties RasterXSize="118970" RasterYSize="91013" DataType="Byte" BlockXSize="128" BlockYSize="128"/>
      <SrcRect xOff="0" yOff="0" xSize="118970" ySize="91013"/>
      <DstRect xOff="0" yOff="0" xSize="118970" ySize="91013"/>
      <LUT>0:255,1:255,2:255,3:255,4:255,5:255,6:255,7:255,8:255,9:255,10:255,11:255,12:255,13:255,14:255,15:255,16:255,17:255,18:255,19:255,20:255,21:255,22:255,23:255,24:255,25:255,26:255,27:255,28:255,29:255,30:255,31:255,32:255,33:255,34:255,35:255,36:255,37:255,38:255,39:255,40:255,41:255,42:255,43:255,44:255,45:255,46:255,47:255,48:255,49:255,50:255,51:255,52:255,53:255,54:255,55:255,56:255,57:255,58:255,59:255,60:255,61:255,62:255,63:255,64:255,65:255,66:255,67:255,68:255,69:255,70:255,71:255,72:255,73:255,74:255,75:255,76:255,77:255,78:255,79:255,80:255,81:255,82:255,83:255,84:255,85:255,86:255,87:255,88:255,89:255,90:255,91:255,92:255,93:255,94:255,95:255,96:255,97:255,98:255,99:255,100:255,253:255,254.999999999999972:255,255:0,255:0</LUT>
    </ComplexSource>
  </VRTRasterBand>
</VRTDataset>
