<VRTDataset rasterXSize="178803" rasterYSize="97953">
  <SRS>PROJCS[&quot;WGS 84 / Pseudo-Mercator&quot;,GEOGCS[&quot;WGS 84&quot;,DATUM[&quot;WGS_1984&quot;,SPHEROID[&quot;WGS 84&quot;,6378137,298.257223563,AUTHORITY[&quot;EPSG&quot;,&quot;7030&quot;]],AUTHORITY[&quot;EPSG&quot;,&quot;6326&quot;]],PRIMEM[&quot;Greenwich&quot;,0,AUTHORITY[&quot;EPSG&quot;,&quot;8901&quot;]],UNIT[&quot;degree&quot;,0.0174532925199433,AUTHORITY[&quot;EPSG&quot;,&quot;9122&quot;]],AUTHORITY[&quot;EPSG&quot;,&quot;4326&quot;]],PROJECTION[&quot;Mercator_1SP&quot;],PARAMETER[&quot;central_meridian&quot;,0],PARAMETER[&quot;scale_factor&quot;,1],PARAMETER[&quot;false_easting&quot;,0],PARAMETER[&quot;false_northing&quot;,0],UNIT[&quot;metre&quot;,1,AUTHORITY[&quot;EPSG&quot;,&quot;9001&quot;]],AXIS[&quot;Easting&quot;,EAST],AXIS[&quot;Northing&quot;,NORTH],EXTENSION[&quot;PROJ4&quot;,&quot;+proj=merc +a=6378137 +b=6378137 +lat_ts=0 +lon_0=0 +x_0=0 +y_0=0 +k=1 +units=m +nadgrids=@null +wktext +no_defs&quot;],AUTHORITY[&quot;EPSG&quot;,&quot;3857&quot;]]</SRS>
  <GeoTransform> -13878441.7096313, 35.9147051631193, 0, 6335230.960120122, 0, -35.91470516311927</GeoTransform>
  <VRTRasterBand dataType="Byte" band="1">
    <ColorInterp>Red</ColorInterp>
    <ComplexSource>
      <SourceFilename relativeToVRT="1">merged.vrt</SourceFilename>
      <SourceBand>1</SourceBand>
      <SourceProperties RasterXSize="178803" RasterYSize="97953" DataType="Byte" BlockXSize="128" BlockYSize="128"/>
      <SrcRect xOff="0" yOff="0" xSize="178803" ySize="97953"/>
      <DstRect xOff="0" yOff="0" xSize="178803" ySize="97953"/>
      <LUT>0:0,1:1,2:2,3:3,4:5,5:7,6:9,7:12,8:15,9:18,10:21,11:24,12:27,13:30,14:34,15:37,16:42,17:46,18:51,19:55,20:59,21:64,22:68,23:72,24:76,25:81,26:85,27:89,28:92,29:96,30:100,31:104,32:108,33:112,34:116,35:120,36:124,37:128,38:132,39:136,40:140,41:145,42:148,43:153,44:156,45:161,46:165,47:170,48:173,49:178,50:182,51:186,52:190,53:194,54:198,55:203,56:207,57:210,58:214,59:218,60:222,61:225,62:228,63:232,64:234,65:237,66:239,67:242,68:244,69:245,70:247,71:248,72:249,73:250,74:251,75:251,76:252,77:252,78:253,79:253,80:254,81:254,82:254,83:254,84:254,85:254,86:254,87:254,88:254,89:254,90:254,91:254,92:254,93:253,94:253,95:253,96:253,97:252,98:252,99:252,100:252,254.999999999999943:252,255:0,255:0</LUT>
    </ComplexSource>
  </VRTRasterBand>
  <VRTRasterBand dataType="Byte" band="2">
    <ColorInterp>Green</ColorInterp>
    <ComplexSource>
      <SourceFilename relativeToVRT="1">merged.vrt</SourceFilename>
      <SourceBand>1</SourceBand>
      <SourceProperties RasterXSize="178803" RasterYSize="97953" DataType="Byte" BlockXSize="128" BlockYSize="128"/>
      <SrcRect xOff="0" yOff="0" xSize="178803" ySize="97953"/>
      <DstRect xOff="0" yOff="0" xSize="178803" ySize="97953"/>
      <LUT>0:0,1:1,2:2,3:3,4:4,5:6,6:7,7:9,8:11,9:13,10:14,11:15,12:16,13:17,14:17,15:18,16:17,17:17,18:16,19:16,20:15,21:15,22:15,23:16,24:17,25:18,26:19,27:21,28:22,29:24,30:26,31:28,32:29,33:31,34:33,35:34,36:35,37:37,38:38,39:39,40:41,41:43,42:44,43:45,44:46,45:48,46:49,47:51,48:52,49:53,50:54,51:56,52:58,53:59,54:61,55:62,56:64,57:66,58:69,59:70,60:73,61:77,62:79,63:83,64:86,65:90,66:94,67:98,68:102,69:107,70:111,71:116,72:121,73:125,74:130,75:136,76:140,77:145,78:150,79:154,80:159,81:164,82:169,83:173,84:178,85:183,86:188,87:193,88:197,89:202,90:206,91:211,92:216,93:220,94:226,95:230,96:235,97:239,98:244,99:248,100:253,254.999999999999943:253,255:0,255:0</LUT>
    </ComplexSource>
  </VRTRasterBand>
  <VRTRasterBand dataType="Byte" band="3">
    <ColorInterp>Blue</ColorInterp>
    <ComplexSource>
      <SourceFilename relativeToVRT="1">merged.vrt</SourceFilename>
      <SourceBand>1</SourceBand>
      <SourceProperties RasterXSize="178803" RasterYSize="97953" DataType="Byte" BlockXSize="128" BlockYSize="128"/>
      <SrcRect xOff="0" yOff="0" xSize="178803" ySize="97953"/>
      <DstRect xOff="0" yOff="0" xSize="178803" ySize="97953"/>
      <LUT>0:4,1:7,2:11,3:17,4:22,5:27,6:33,7:38,8:44,9:49,10:55,11:61,12:67,13:73,14:79,15:86,16:92,17:98,18:103,19:107,20:112,21:115,22:118,23:120,24:122,25:124,26:125,27:126,28:127,29:128,30:128,31:129,32:129,33:129,34:129,35:129,36:130,37:130,38:129,39:129,40:129,41:129,42:128,43:128,44:127,45:126,46:126,47:125,48:124,49:123,50:121,51:120,52:119,53:117,54:115,55:114,56:112,57:111,58:108,59:107,60:104,61:102,62:100,63:98,64:97,65:95,66:94,67:93,68:92,69:92,70:92,71:92,72:93,73:94,74:95,75:97,76:99,77:101,78:104,79:106,80:109,81:112,82:115,83:119,84:122,85:126,86:129,87:133,88:137,89:141,90:145,91:149,92:154,93:158,94:162,95:168,96:172,97:177,98:182,99:186,100:191,254.999999999999943:191,255:0,255:0</LUT>
    </ComplexSource>
  </VRTRasterBand>
  <VRTRasterBand dataType="Byte" band="4">
    <ColorInterp>Alpha</ColorInterp>
    <ComplexSource>
      <SourceFilename relativeToVRT="1">merged.vrt</SourceFilename>
      <SourceBand>1</SourceBand>
      <SourceProperties RasterXSize="178803" RasterYSize="97953" DataType="Byte" BlockXSize="128" BlockYSize="128"/>
      <SrcRect xOff="0" yOff="0" xSize="178803" ySize="97953"/>
      <DstRect xOff="0" yOff="0" xSize="178803" ySize="97953"/>
      <LUT>0:255,1:255,2:255,3:255,4:255,5:255,6:255,7:255,8:255,9:255,10:255,11:255,12:255,13:255,14:255,15:255,16:255,17:255,18:255,19:255,20:255,21:255,22:255,23:255,24:255,25:255,26:255,27:255,28:255,29:255,30:255,31:255,32:255,33:255,34:255,35:255,36:255,37:255,38:255,39:255,40:255,41:255,42:255,43:255,44:255,45:255,46:255,47:255,48:255,49:255,50:255,51:255,52:255,53:255,54:255,55:255,56:255,57:255,58:255,59:255,60:255,61:255,62:255,63:255,64:255,65:255,66:255,67:255,68:255,69:255,70:255,71:255,72:255,73:255,74:255,75:255,76:255,77:255,78:255,79:255,80:255,81:255,82:255,83:255,84:255,85:255,86:255,87:255,88:255,89:255,90:255,91:255,92:255,93:255,94:255,95:255,96:255,97:255,98:255,99:255,100:255,254.999999999999943:255,255:0,255:0</LUT>
    </ComplexSource>
  </VRTRasterBand>
</VRTDataset>
