<VRTDataset rasterXSize="6608" rasterYSize="3617">
  <SRS>PROJCS[&quot;WGS 84 / Pseudo-Mercator&quot;,GEOGCS[&quot;WGS 84&quot;,DATUM[&quot;WGS_1984&quot;,SPHEROID[&quot;WGS 84&quot;,6378137,298.257223563,AUTHORITY[&quot;EPSG&quot;,&quot;7030&quot;]],AUTHORITY[&quot;EPSG&quot;,&quot;6326&quot;]],PRIMEM[&quot;Greenwich&quot;,0,AUTHORITY[&quot;EPSG&quot;,&quot;8901&quot;]],UNIT[&quot;degree&quot;,0.0174532925199433,AUTHORITY[&quot;EPSG&quot;,&quot;9122&quot;]],AUTHORITY[&quot;EPSG&quot;,&quot;4326&quot;]],PROJECTION[&quot;Mercator_1SP&quot;],PARAMETER[&quot;central_meridian&quot;,0],PARAMETER[&quot;scale_factor&quot;,1],PARAMETER[&quot;false_easting&quot;,0],PARAMETER[&quot;false_northing&quot;,0],UNIT[&quot;metre&quot;,1,AUTHORITY[&quot;EPSG&quot;,&quot;9001&quot;]],AXIS[&quot;Easting&quot;,EAST],AXIS[&quot;Northing&quot;,NORTH],EXTENSION[&quot;PROJ4&quot;,&quot;+proj=merc +a=6378137 +b=6378137 +lat_ts=0 +lon_0=0 +x_0=0 +y_0=0 +k=1 +units=m +nadgrids=@null +wktext +no_defs&quot;],AUTHORITY[&quot;EPSG&quot;,&quot;3857&quot;]]</SRS>
  <GeoTransform> -13889007.85225944, 974.056998541079, 0, 6340977.617865434, 0, -974.0569985410791</GeoTransform>
  <VRTRasterBand dataType="Byte" band="1">
    <ColorInterp>Red</ColorInterp>
    <ComplexSource>
      <SourceFilename relativeToVRT="1">merged.vrt</SourceFilename>
      <SourceBand>1</SourceBand>
      <SourceProperties RasterXSize="6608" RasterYSize="3617" DataType="Byte" BlockXSize="128" BlockYSize="128"/>
      <SrcRect xOff="0" yOff="0" xSize="6608" ySize="3617"/>
      <DstRect xOff="0" yOff="0" xSize="6608" ySize="3617"/>
      <LUT>0:253,1:251,2:248,3:246,4:244,5:241,6:239,7:236,8:234,9:231,10:229,11:225,12:223,13:220,14:217,15:215,16:212,17:209,18:207,19:204,20:201,21:199,22:196,23:193,24:191,25:187,26:185,27:183,28:179,29:177,30:174,31:171,32:169,33:166,34:163,35:161,36:158,37:156,38:153,39:150,40:147,41:144,42:142,43:139,44:137,45:134,46:132,47:129,48:127,49:124,50:122,51:119,52:117,53:115,54:112,55:110,56:108,57:105,58:103,59:101,60:98,61:95,62:94,63:91,64:89,65:87,66:85,67:83,68:81,69:79,70:77,71:75,72:73,73:71,74:69,75:67,76:65,77:63,78:62,79:60,80:58,81:57,82:55,83:54,84:52,85:51,86:49,87:48,88:46,89:45,90:44,91:42,92:41,93:40,94:39,95:38,96:37,97:37,98:36,99:35,100:34,101:34,102:33,103:33,104:32,105:32,106:31,107:31,108:31,109:31,110:31,111:31,112:30,113:30,114:30,115:31,116:31,117:31,118:31,119:31,120:31,121:31,122:32,123:32,124:32,125:33,126:33,127:33,128:34,129:34,130:34,131:35,132:35,133:35,134:36,135:36,136:37,137:37,138:37,139:38,140:38,141:38,142:39,143:39,144:39,145:40,146:40,147:41,148:41,149:41,150:42,151:42,152:42,153:43,154:43,155:44,156:44,157:44,158:45,159:45,160:46,161:46,162:46,163:47,164:47,165:48,166:48,167:49,168:49,169:49,170:50,171:50,172:51,173:51,174:52,175:53,176:53,177:54,178:54,179:55,180:55,181:56,182:56,183:57,184:57,185:58,186:58,187:59,188:59,189:60,190:60,191:61,192:61,193:62,194:62,195:62,196:63,197:63,198:64,199:64,200:65,201:65,202:66,203:66,204:66,205:67,206:67,207:68,208:68,209:68,210:69,211:69,212:69,213:70,214:70,215:70,216:70,217:71,218:71,219:71,220:71,221:71,222:72,223:72,224:72,225:72,226:72,227:72,228:72,229:72,230:72,231:72,232:72,233:72,234:72,235:72,236:72,237:72,238:71,239:71,240:71,241:71,242:71,243:70,244:70,245:70,246:70,247:69,248:69,249:68,250:68,254.999999999999943:68,255:0</LUT>
    </ComplexSource>
  </VRTRasterBand>
  <VRTRasterBand dataType="Byte" band="2">
    <ColorInterp>Green</ColorInterp>
    <ComplexSource>
      <SourceFilename relativeToVRT="1">merged.vrt</SourceFilename>
      <SourceBand>1</SourceBand>
      <SourceProperties RasterXSize="6608" RasterYSize="3617" DataType="Byte" BlockXSize="128" BlockYSize="128"/>
      <SrcRect xOff="0" yOff="0" xSize="6608" ySize="3617"/>
      <DstRect xOff="0" yOff="0" xSize="6608" ySize="3617"/>
      <LUT>0:231,1:231,2:230,3:230,4:230,5:229,6:229,7:229,8:229,9:228,10:228,11:228,12:227,13:227,14:227,15:226,16:226,17:226,18:225,19:225,20:225,21:224,22:224,23:223,24:223,25:223,26:222,27:222,28:221,29:221,30:220,31:220,32:219,33:219,34:218,35:218,36:217,37:217,38:216,39:216,40:215,41:215,42:214,43:214,44:213,45:213,46:212,47:211,48:211,49:210,50:209,51:209,52:208,53:208,54:207,55:206,56:205,57:205,58:204,59:203,60:203,61:202,62:201,63:200,64:200,65:199,66:198,67:197,68:197,69:196,70:195,71:193,72:193,73:193,74:191,75:191,76:190,77:188,78:188,79:188,80:186,81:185,82:184,83:183,84:182,85:182,86:181,87:180,88:179,89:178,90:177,91:176,92:175,93:174,94:173,95:173,96:172,97:171,98:170,99:169,100:168,101:167,102:166,103:165,104:164,105:163,106:162,107:161,108:161,109:160,110:159,111:158,112:157,113:156,114:155,115:154,116:153,117:152,118:151,119:150,120:149,121:148,122:146,123:146,124:146,125:144,126:143,127:142,128:141,129:140,130:139,131:138,132:137,133:136,134:135,135:134,136:133,137:132,138:131,139:130,140:130,141:129,142:128,143:127,144:126,145:125,146:124,147:123,148:122,149:121,150:120,151:119,152:118,153:117,154:116,155:115,156:114,157:113,158:113,159:112,160:111,161:110,162:109,163:108,164:107,165:106,166:105,167:104,168:103,169:102,170:101,171:100,172:99,173:98,174:97,175:96,176:94,177:93,178:92,179:91,180:90,181:89,182:88,183:87,184:85,185:84,186:83,187:82,188:81,189:80,190:79,191:78,192:77,193:76,194:74,195:73,196:72,197:71,198:70,199:69,200:68,201:66,202:65,203:64,204:63,205:62,206:61,207:59,208:58,209:57,210:56,211:55,212:53,213:52,214:51,215:49,216:48,217:47,218:46,219:45,220:43,221:41,222:41,223:39,224:37,225:37,226:36,227:34,228:32,229:32,230:30,231:28,232:27,233:26,234:25,235:23,236:22,237:20,238:19,239:17,240:16,241:14,242:13,243:11,244:10,245:8,246:7,247:5,248:4,249:2,250:1,254.999999999999943:1,255:0</LUT>
    </ComplexSource>
  </VRTRasterBand>
  <VRTRasterBand dataType="Byte" band="3">
    <ColorInterp>Blue</ColorInterp>
    <ComplexSource>
      <SourceFilename relativeToVRT="1">merged.vrt</SourceFilename>
      <SourceBand>1</SourceBand>
      <SourceProperties RasterXSize="6608" RasterYSize="3617" DataType="Byte" BlockXSize="128" BlockYSize="128"/>
      <SrcRect xOff="0" yOff="0" xSize="6608" ySize="3617"/>
      <DstRect xOff="0" yOff="0" xSize="6608" ySize="3617"/>
      <LUT>0:37,1:35,2:33,3:32,4:30,5:29,6:28,7:27,8:26,9:25,10:25,11:24,12:24,13:24,14:25,15:25,16:26,17:27,18:28,19:30,20:32,21:32,22:34,23:36,24:37,25:39,26:41,27:42,28:44,29:46,30:48,31:49,32:51,33:53,34:55,35:56,36:59,37:60,38:61,39:64,40:65,41:67,42:69,43:70,44:72,45:73,46:75,47:77,48:78,49:80,50:81,51:83,52:84,53:86,54:87,55:88,56:90,57:91,58:92,59:94,60:95,61:96,62:98,63:99,64:100,65:102,66:103,67:104,68:105,69:106,70:107,71:108,72:109,73:110,74:111,75:113,76:114,77:115,78:116,79:117,80:118,81:119,82:120,83:121,84:121,85:122,86:123,87:124,88:124,89:125,90:126,91:127,92:127,93:128,94:129,95:129,96:130,97:130,98:131,99:131,100:132,101:133,102:133,103:133,104:134,105:134,106:135,107:135,108:136,109:136,110:136,111:137,112:137,113:137,114:138,115:138,116:138,117:139,118:139,119:139,120:139,121:140,122:140,123:140,124:140,125:140,126:141,127:141,128:141,129:141,130:141,131:141,132:142,133:142,134:142,135:142,136:142,137:142,138:142,139:142,140:142,141:142,142:142,143:142,144:142,145:142,146:142,147:142,148:142,149:142,150:142,151:142,152:142,153:142,154:142,155:142,156:142,157:142,158:142,159:142,160:142,161:142,162:142,163:142,164:142,165:142,166:142,167:142,168:142,169:142,170:142,171:142,172:141,173:141,174:141,175:141,176:141,177:141,178:141,179:141,180:140,181:140,182:140,183:140,184:140,185:140,186:139,187:139,188:139,189:139,190:138,191:138,192:138,193:138,194:137,195:137,196:137,197:136,198:136,199:136,200:135,201:135,202:134,203:134,204:133,205:133,206:132,207:132,208:131,209:131,210:130,211:129,212:129,213:128,214:127,215:126,216:126,217:125,218:124,219:123,220:122,221:122,222:121,223:120,224:119,225:118,226:116,227:116,228:114,229:112,230:111,231:110,232:109,233:108,234:107,235:105,236:104,237:103,238:101,239:100,240:99,241:97,242:96,243:94,244:93,245:92,246:90,247:89,248:87,249:86,250:84,254.999999999999943:84,255:0</LUT>
    </ComplexSource>
  </VRTRasterBand>
  <VRTRasterBand dataType="Byte" band="4">
    <ColorInterp>Alpha</ColorInterp>
    <ComplexSource>
      <SourceFilename relativeToVRT="1">merged.vrt</SourceFilename>
      <SourceBand>1</SourceBand>
      <SourceProperties RasterXSize="6608" RasterYSize="3617" DataType="Byte" BlockXSize="128" BlockYSize="128"/>
      <SrcRect xOff="0" yOff="0" xSize="6608" ySize="3617"/>
      <DstRect xOff="0" yOff="0" xSize="6608" ySize="3617"/>
      <LUT>0:255,1:255,2:255,3:255,4:255,5:255,6:255,7:255,8:255,9:255,10:255,11:255,12:255,13:255,14:255,15:255,16:255,17:255,18:255,19:255,20:255,21:255,22:255,23:255,24:255,25:255,26:255,27:255,28:255,29:255,30:255,31:255,32:255,33:255,34:255,35:255,36:255,37:255,38:255,39:255,40:255,41:255,42:255,43:255,44:255,45:255,46:255,47:255,48:255,49:255,50:255,51:255,52:255,53:255,54:255,55:255,56:255,57:255,58:255,59:255,60:255,61:255,62:255,63:255,64:255,65:255,66:255,67:255,68:255,69:255,70:255,71:255,72:255,73:255,74:255,75:255,76:255,77:255,78:255,79:255,80:255,81:255,82:255,83:255,84:255,85:255,86:255,87:255,88:255,89:255,90:255,91:255,92:255,93:255,94:255,95:255,96:255,97:255,98:255,99:255,100:255,101:255,102:255,103:255,104:255,105:255,106:255,107:255,108:255,109:255,110:255,111:255,112:255,113:255,114:255,115:255,116:255,117:255,118:255,119:255,120:255,121:255,122:255,123:255,124:255,125:255,126:255,127:255,128:255,129:255,130:255,131:255,132:255,133:255,134:255,135:255,136:255,137:255,138:255,139:255,140:255,141:255,142:255,143:255,144:255,145:255,146:255,147:255,148:255,149:255,150:255,151:255,152:255,153:255,154:255,155:255,156:255,157:255,158:255,159:255,160:255,161:255,162:255,163:255,164:255,165:255,166:255,167:255,168:255,169:255,170:255,171:255,172:255,173:255,174:255,175:255,176:255,177:255,178:255,179:255,180:255,181:255,182:255,183:255,184:255,185:255,186:255,187:255,188:255,189:255,190:255,191:255,192:255,193:255,194:255,195:255,196:255,197:255,198:255,199:255,200:255,201:255,202:255,203:255,204:255,205:255,206:255,207:255,208:255,209:255,210:255,211:255,212:255,213:255,214:255,215:255,216:255,217:255,218:255,219:255,220:255,221:255,222:255,223:255,224:255,225:255,226:255,227:255,228:255,229:255,230:255,231:255,232:255,233:255,234:255,235:255,236:255,237:255,238:255,239:255,240:255,241:255,242:255,243:255,244:255,245:255,246:255,247:255,248:255,249:255,250:255,254.999999999999943:255,255:0</LUT>
    </ComplexSource>
  </VRTRasterBand>
</VRTDataset>
