<VRTDataset rasterXSize="6608" rasterYSize="3617">
  <SRS>PROJCS[&quot;WGS 84 / Pseudo-Mercator&quot;,GEOGCS[&quot;WGS 84&quot;,DATUM[&quot;WGS_1984&quot;,SPHEROID[&quot;WGS 84&quot;,6378137,298.257223563,AUTHORITY[&quot;EPSG&quot;,&quot;7030&quot;]],AUTHORITY[&quot;EPSG&quot;,&quot;6326&quot;]],PRIMEM[&quot;Greenwich&quot;,0,AUTHORITY[&quot;EPSG&quot;,&quot;8901&quot;]],UNIT[&quot;degree&quot;,0.0174532925199433,AUTHORITY[&quot;EPSG&quot;,&quot;9122&quot;]],AUTHORITY[&quot;EPSG&quot;,&quot;4326&quot;]],PROJECTION[&quot;Mercator_1SP&quot;],PARAMETER[&quot;central_meridian&quot;,0],PARAMETER[&quot;scale_factor&quot;,1],PARAMETER[&quot;false_easting&quot;,0],PARAMETER[&quot;false_northing&quot;,0],UNIT[&quot;metre&quot;,1,AUTHORITY[&quot;EPSG&quot;,&quot;9001&quot;]],AXIS[&quot;Easting&quot;,EAST],AXIS[&quot;Northing&quot;,NORTH],EXTENSION[&quot;PROJ4&quot;,&quot;+proj=merc +a=6378137 +b=6378137 +lat_ts=0 +lon_0=0 +x_0=0 +y_0=0 +k=1 +units=m +nadgrids=@null +wktext +no_defs&quot;],AUTHORITY[&quot;EPSG&quot;,&quot;3857&quot;]]</SRS>
  <GeoTransform> -13889007.85228123, 974.0569977953745, 0, 6340977.560478817, 0, -974.0569977953745</GeoTransform>
  <VRTRasterBand dataType="Byte" band="1">
    <ColorInterp>Red</ColorInterp>
    <ComplexSource>
      <SourceFilename relativeToVRT="1">merged.vrt</SourceFilename>
      <SourceBand>1</SourceBand>
      <SourceProperties RasterXSize="6608" RasterYSize="3617" DataType="Byte" BlockXSize="128" BlockYSize="128"/>
      <SrcRect xOff="0" yOff="0" xSize="6608" ySize="3617"/>
      <DstRect xOff="0" yOff="0" xSize="6608" ySize="3617"/>
      <LUT>0:68,1:68,2:69,3:69,4:70,5:70,6:70,7:70,8:71,9:71,10:71,11:71,12:71,13:72,14:72,15:72,16:72,17:72,18:72,19:72,20:72,21:72,22:72,23:72,24:72,25:72,26:72,27:72,28:72,29:71,30:71,31:71,32:71,33:71,34:70,35:70,36:70,37:70,38:69,39:69,40:69,41:68,42:68,43:68,44:67,45:67,46:66,47:66,48:66,49:65,50:65,51:64,52:64,53:63,54:63,55:62,56:62,57:62,58:61,59:61,60:60,61:60,62:59,63:59,64:58,65:58,66:57,67:57,68:56,69:56,70:55,71:55,72:54,73:54,74:53,75:53,76:52,77:51,78:51,79:50,80:50,81:49,82:49,83:49,84:48,85:48,86:47,87:47,88:46,89:46,90:46,91:45,92:45,93:44,94:44,95:44,96:43,97:43,98:42,99:42,100:42,101:41,102:41,103:41,104:40,105:40,106:39,107:39,108:39,109:38,110:38,111:38,112:37,113:37,114:37,115:36,116:36,117:35,118:35,119:35,120:34,121:34,122:34,123:33,124:33,125:33,126:32,127:32,128:32,129:31,130:31,131:31,132:31,133:31,134:31,135:31,136:30,137:30,138:30,139:31,140:31,141:31,142:31,143:31,144:31,145:32,146:32,147:33,148:33,149:34,150:34,151:35,152:36,153:37,154:37,155:38,156:39,157:40,158:41,159:42,160:44,161:45,162:46,163:48,164:49,165:51,166:52,167:54,168:55,169:57,170:58,171:60,172:62,173:63,174:65,175:67,176:69,177:71,178:73,179:75,180:77,181:79,182:81,183:83,184:85,185:87,186:89,187:91,188:94,189:95,190:98,191:101,192:103,193:105,194:108,195:110,196:112,197:115,198:117,199:119,200:122,201:124,202:127,203:129,204:132,205:134,206:137,207:139,208:142,209:144,210:147,211:150,212:153,213:156,214:158,215:161,216:163,217:166,218:169,219:171,220:174,221:177,222:179,223:183,224:185,225:187,226:191,227:193,228:196,229:199,230:201,231:204,232:207,233:209,234:212,235:215,236:217,237:220,238:223,239:225,240:229,241:231,242:234,243:236,244:239,245:241,246:244,247:246,248:248,249:251,250:253,254.999999999999943:253,255:0</LUT>
    </ComplexSource>
  </VRTRasterBand>
  <VRTRasterBand dataType="Byte" band="2">
    <ColorInterp>Green</ColorInterp>
    <ComplexSource>
      <SourceFilename relativeToVRT="1">merged.vrt</SourceFilename>
      <SourceBand>1</SourceBand>
      <SourceProperties RasterXSize="6608" RasterYSize="3617" DataType="Byte" BlockXSize="128" BlockYSize="128"/>
      <SrcRect xOff="0" yOff="0" xSize="6608" ySize="3617"/>
      <DstRect xOff="0" yOff="0" xSize="6608" ySize="3617"/>
      <LUT>0:1,1:2,2:4,3:5,4:7,5:8,6:10,7:11,8:13,9:14,10:16,11:17,12:19,13:20,14:22,15:23,16:25,17:26,18:27,19:28,20:30,21:32,22:32,23:34,24:36,25:37,26:37,27:39,28:41,29:41,30:43,31:45,32:46,33:47,34:48,35:49,36:51,37:52,38:53,39:55,40:56,41:57,42:58,43:59,44:61,45:62,46:63,47:64,48:65,49:66,50:68,51:69,52:70,53:71,54:72,55:73,56:74,57:76,58:77,59:78,60:79,61:80,62:81,63:82,64:83,65:84,66:85,67:87,68:88,69:89,70:90,71:91,72:92,73:93,74:94,75:96,76:97,77:98,78:99,79:100,80:101,81:102,82:103,83:104,84:105,85:106,86:107,87:108,88:109,89:110,90:111,91:112,92:113,93:113,94:114,95:115,96:116,97:117,98:118,99:119,100:120,101:121,102:122,103:123,104:124,105:125,106:126,107:127,108:128,109:129,110:130,111:130,112:131,113:132,114:133,115:134,116:135,117:136,118:137,119:138,120:139,121:140,122:141,123:142,124:143,125:144,126:146,127:146,128:146,129:148,130:149,131:150,132:151,133:152,134:153,135:154,136:155,137:156,138:157,139:158,140:159,141:160,142:161,143:161,144:162,145:163,146:164,147:165,148:166,149:167,150:168,151:169,152:170,153:171,154:172,155:173,156:173,157:174,158:175,159:176,160:177,161:178,162:179,163:180,164:181,165:182,166:182,167:183,168:184,169:185,170:186,171:188,172:188,173:188,174:190,175:191,176:191,177:193,178:193,179:193,180:195,181:196,182:197,183:197,184:198,185:199,186:200,187:200,188:201,189:202,190:203,191:203,192:204,193:205,194:205,195:206,196:207,197:208,198:208,199:209,200:209,201:210,202:211,203:211,204:212,205:213,206:213,207:214,208:214,209:215,210:215,211:216,212:216,213:217,214:217,215:218,216:218,217:219,218:219,219:220,220:220,221:221,222:221,223:222,224:222,225:223,226:223,227:223,228:224,229:224,230:225,231:225,232:225,233:226,234:226,235:226,236:227,237:227,238:227,239:228,240:228,241:228,242:229,243:229,244:229,245:229,246:230,247:230,248:230,249:231,250:231,254.999999999999943:231,255:0</LUT>
    </ComplexSource>
  </VRTRasterBand>
  <VRTRasterBand dataType="Byte" band="3">
    <ColorInterp>Blue</ColorInterp>
    <ComplexSource>
      <SourceFilename relativeToVRT="1">merged.vrt</SourceFilename>
      <SourceBand>1</SourceBand>
      <SourceProperties RasterXSize="6608" RasterYSize="3617" DataType="Byte" BlockXSize="128" BlockYSize="128"/>
      <SrcRect xOff="0" yOff="0" xSize="6608" ySize="3617"/>
      <DstRect xOff="0" yOff="0" xSize="6608" ySize="3617"/>
      <LUT>0:84,1:86,2:87,3:89,4:90,5:92,6:93,7:94,8:96,9:97,10:99,11:100,12:101,13:103,14:104,15:105,16:107,17:108,18:109,19:110,20:111,21:112,22:114,23:116,24:116,25:118,26:119,27:120,28:121,29:122,30:122,31:123,32:124,33:125,34:126,35:126,36:127,37:128,38:129,39:129,40:130,41:131,42:131,43:132,44:132,45:133,46:133,47:134,48:134,49:135,50:135,51:136,52:136,53:136,54:137,55:137,56:137,57:138,58:138,59:138,60:138,61:139,62:139,63:139,64:139,65:140,66:140,67:140,68:140,69:140,70:140,71:141,72:141,73:141,74:141,75:141,76:141,77:141,78:141,79:142,80:142,81:142,82:142,83:142,84:142,85:142,86:142,87:142,88:142,89:142,90:142,91:142,92:142,93:142,94:142,95:142,96:142,97:142,98:142,99:142,100:142,101:142,102:142,103:142,104:142,105:142,106:142,107:142,108:142,109:142,110:142,111:142,112:142,113:142,114:142,115:142,116:142,117:142,118:142,119:141,120:141,121:141,122:141,123:141,124:141,125:140,126:140,127:140,128:140,129:140,130:139,131:139,132:139,133:139,134:138,135:138,136:138,137:137,138:137,139:137,140:136,141:136,142:136,143:135,144:135,145:134,146:134,147:133,148:133,149:133,150:132,151:131,152:131,153:130,154:130,155:129,156:129,157:128,158:127,159:127,160:126,161:125,162:124,163:124,164:123,165:122,166:121,167:121,168:120,169:119,170:118,171:117,172:116,173:115,174:114,175:113,176:111,177:110,178:109,179:108,180:107,181:106,182:105,183:104,184:103,185:102,186:100,187:99,188:98,189:96,190:95,191:94,192:92,193:91,194:90,195:88,196:87,197:86,198:84,199:83,200:81,201:80,202:78,203:77,204:75,205:73,206:72,207:70,208:69,209:67,210:65,211:64,212:61,213:60,214:59,215:56,216:55,217:53,218:51,219:49,220:48,221:46,222:44,223:42,224:41,225:39,226:37,227:36,228:34,229:32,230:32,231:30,232:28,233:27,234:26,235:25,236:25,237:24,238:24,239:24,240:25,241:25,242:26,243:27,244:28,245:29,246:30,247:32,248:33,249:35,250:37,254.999999999999943:37,255:0</LUT>
    </ComplexSource>
  </VRTRasterBand>
  <VRTRasterBand dataType="Byte" band="4">
    <ColorInterp>Alpha</ColorInterp>
    <ComplexSource>
      <SourceFilename relativeToVRT="1">merged.vrt</SourceFilename>
      <SourceBand>1</SourceBand>
      <SourceProperties RasterXSize="6608" RasterYSize="3617" DataType="Byte" BlockXSize="128" BlockYSize="128"/>
      <SrcRect xOff="0" yOff="0" xSize="6608" ySize="3617"/>
      <DstRect xOff="0" yOff="0" xSize="6608" ySize="3617"/>
      <LUT>0:255,1:255,2:255,3:255,4:255,5:255,6:255,7:255,8:255,9:255,10:255,11:255,12:255,13:255,14:255,15:255,16:255,17:255,18:255,19:255,20:255,21:255,22:255,23:255,24:255,25:255,26:255,27:255,28:255,29:255,30:255,31:255,32:255,33:255,34:255,35:255,36:255,37:255,38:255,39:255,40:255,41:255,42:255,43:255,44:255,45:255,46:255,47:255,48:255,49:255,50:255,51:255,52:255,53:255,54:255,55:255,56:255,57:255,58:255,59:255,60:255,61:255,62:255,63:255,64:255,65:255,66:255,67:255,68:255,69:255,70:255,71:255,72:255,73:255,74:255,75:255,76:255,77:255,78:255,79:255,80:255,81:255,82:255,83:255,84:255,85:255,86:255,87:255,88:255,89:255,90:255,91:255,92:255,93:255,94:255,95:255,96:255,97:255,98:255,99:255,100:255,101:255,102:255,103:255,104:255,105:255,106:255,107:255,108:255,109:255,110:255,111:255,112:255,113:255,114:255,115:255,116:255,117:255,118:255,119:255,120:255,121:255,122:255,123:255,124:255,125:255,126:255,127:255,128:255,129:255,130:255,131:255,132:255,133:255,134:255,135:255,136:255,137:255,138:255,139:255,140:255,141:255,142:255,143:255,144:255,145:255,146:255,147:255,148:255,149:255,150:255,151:255,152:255,153:255,154:255,155:255,156:255,157:255,158:255,159:255,160:255,161:255,162:255,163:255,164:255,165:255,166:255,167:255,168:255,169:255,170:255,171:255,172:255,173:255,174:255,175:255,176:255,177:255,178:255,179:255,180:255,181:255,182:255,183:255,184:255,185:255,186:255,187:255,188:255,189:255,190:255,191:255,192:255,193:255,194:255,195:255,196:255,197:255,198:255,199:255,200:255,201:255,202:255,203:255,204:255,205:255,206:255,207:255,208:255,209:255,210:255,211:255,212:255,213:255,214:255,215:255,216:255,217:255,218:255,219:255,220:255,221:255,222:255,223:255,224:255,225:255,226:255,227:255,228:255,229:255,230:255,231:255,232:255,233:255,234:255,235:255,236:255,237:255,238:255,239:255,240:255,241:255,242:255,243:255,244:255,245:255,246:255,247:255,248:255,249:255,250:255,254.999999999999943:255,255:0</LUT>
    </ComplexSource>
  </VRTRasterBand>
</VRTDataset>
